BEGIN:VCALENDAR
VERSION:2.0
PRODID:-//Ticket Guide AI - ECPv6.15.14//NONSGML v1.0//EN
CALSCALE:GREGORIAN
METHOD:PUBLISH
X-WR-CALNAME:Ticket Guide AI
X-ORIGINAL-URL:https://ticketguide.ai
X-WR-CALDESC:Events for Ticket Guide AI
REFRESH-INTERVAL;VALUE=DURATION:PT1H
X-Robots-Tag:noindex
X-PUBLISHED-TTL:PT1H
BEGIN:VTIMEZONE
TZID:America/New_York
BEGIN:DAYLIGHT
TZOFFSETFROM:-0500
TZOFFSETTO:-0400
TZNAME:EDT
DTSTART:20240310T070000
END:DAYLIGHT
BEGIN:STANDARD
TZOFFSETFROM:-0400
TZOFFSETTO:-0500
TZNAME:EST
DTSTART:20241103T060000
END:STANDARD
BEGIN:DAYLIGHT
TZOFFSETFROM:-0500
TZOFFSETTO:-0400
TZNAME:EDT
DTSTART:20250309T070000
END:DAYLIGHT
BEGIN:STANDARD
TZOFFSETFROM:-0400
TZOFFSETTO:-0500
TZNAME:EST
DTSTART:20251102T060000
END:STANDARD
BEGIN:DAYLIGHT
TZOFFSETFROM:-0500
TZOFFSETTO:-0400
TZNAME:EDT
DTSTART:20260308T070000
END:DAYLIGHT
BEGIN:STANDARD
TZOFFSETFROM:-0400
TZOFFSETTO:-0500
TZNAME:EST
DTSTART:20261101T060000
END:STANDARD
END:VTIMEZONE
BEGIN:VEVENT
DTSTART;TZID=America/New_York:20250208T130000
DTEND;TZID=America/New_York:20250208T140000
DTSTAMP:20260419T143739
CREATED:20250122T023303Z
LAST-MODIFIED:20250122T023303Z
UID:10002410-1739019600-1739023200@ticketguide.ai
SUMMARY:Eckhaus Latta
DESCRIPTION:Eckhaus Latta\nEckhaus Latta\, founded in 2011 by Mike Eckhaus and Zoe Latta\, is a bicoastal American fashion brand with studios in New York City and Los Angeles. The duo met as students at the Rhode Island School of Design\, where Eckhaus studied sculpture and Latta focused on textiles. \nThis diverse background informs their innovative approach to design\, resulting in collections that challenge traditional fashion norms. Renowned for their gender-fluid designs\, Eckhaus Latta often casts non-professional models of various genders\, ages\, shapes\, and sizes in their runway shows and campaigns\, promoting inclusivity and diversity. \nTheir work transcends fashion\, incorporating elements of art and performance\, as evidenced by their 2018 exhibition\, Possessed\, at the Whitney Museum of American Art—the museum’s first fashion-related exhibition in over two decades. \nIn December 2024\, The brand introduced their first handbag\, The Snap\, a leather hobo bag featuring functional snaps that allow it to transform in shape\, reflecting the brand’s commitment to thoughtful and deliberate design. By consistently pushing boundaries and embracing unconventional approaches\, The brand has established itself as a trailblazer in the contemporary fashion landscape. \nAccess Type: By Invite \nFor more details about upcoming events\, click here.
URL:https://ticketguide.ai/event/eckhaus-latta-nyfw-2025/
LOCATION:New York\, New York\, United States
CATEGORIES:Fashion Week,New York Fashion Week
ATTACH;FMTTYPE=image/jpeg:https://images.newyorkstyleguide.com/cdn-cgi/imagedelivery/iQi6oghKZnTnyD5BhCza-A/events.newyorkstyleguide.com/2025/01/Eckhaus-Latta.jpg/w=9999
GEO:40.7127753;-74.0059728
X-APPLE-STRUCTURED-LOCATION;VALUE=URI;X-ADDRESS=New York New York United States;X-APPLE-RADIUS=500;X-TITLE=New York:geo:-74.0059728,40.7127753
END:VEVENT
BEGIN:VEVENT
DTSTART;TZID=America/New_York:20250207T200000
DTEND;TZID=America/New_York:20250207T210000
DTSTAMP:20260419T143739
CREATED:20250121T131616Z
LAST-MODIFIED:20250121T131616Z
UID:10002407-1738958400-1738962000@ticketguide.ai
SUMMARY:Altuzarra
DESCRIPTION:Altuzarra\nAltuzarra is a luxury women’s ready-to-wear and accessories brand\, founded in 2008 by French-American designer Joseph Altuzarra. Known for creating sophisticated\, modern wardrobes\, the brand embodies timelessness and uncompromising quality. The brand’s collections exude a sense of seductive femininity\, power\, and fearlessness\, designed to empower the modern woman. \nDrawing inspiration from Joseph’s multicultural background—raised in Paris by a Chinese-American mother and a French father—each collection is influenced by his deep curiosity about the world\, encompassing a range of cultural references from film\, dance\, and fine art. The brand is anchored in artisanal craftsmanship\, ensuring that every piece is meticulously crafted with an attention to detail. \nThe brand has received numerous accolades\, including the CFDA/Vogue Fashion Fund Winner in 2011\, and continues to redefine modern femininity through his powerful\, transformative designs. \nAccess Type: By Invite \nFor more details about upcoming events\, click here.
URL:https://ticketguide.ai/event/altuzarra-nyfw-2025/
LOCATION:New York\, New York\, United States
CATEGORIES:Fashion Week,New York Fashion Week
ATTACH;FMTTYPE=image/jpeg:https://images.newyorkstyleguide.com/cdn-cgi/imagedelivery/iQi6oghKZnTnyD5BhCza-A/events.newyorkstyleguide.com/2025/01/Altuzarra.jpg/w=9999
GEO:40.7127753;-74.0059728
X-APPLE-STRUCTURED-LOCATION;VALUE=URI;X-ADDRESS=New York New York United States;X-APPLE-RADIUS=500;X-TITLE=New York:geo:-74.0059728,40.7127753
END:VEVENT
END:VCALENDAR