BEGIN:VCALENDAR
VERSION:2.0
PRODID:-//Ticket Guide AI - ECPv6.15.14//NONSGML v1.0//EN
CALSCALE:GREGORIAN
METHOD:PUBLISH
X-WR-CALNAME:Ticket Guide AI
X-ORIGINAL-URL:https://ticketguide.ai
X-WR-CALDESC:Events for Ticket Guide AI
REFRESH-INTERVAL;VALUE=DURATION:PT1H
X-Robots-Tag:noindex
X-PUBLISHED-TTL:PT1H
BEGIN:VTIMEZONE
TZID:America/New_York
BEGIN:DAYLIGHT
TZOFFSETFROM:-0500
TZOFFSETTO:-0400
TZNAME:EDT
DTSTART:20240310T070000
END:DAYLIGHT
BEGIN:STANDARD
TZOFFSETFROM:-0400
TZOFFSETTO:-0500
TZNAME:EST
DTSTART:20241103T060000
END:STANDARD
BEGIN:DAYLIGHT
TZOFFSETFROM:-0500
TZOFFSETTO:-0400
TZNAME:EDT
DTSTART:20250309T070000
END:DAYLIGHT
BEGIN:STANDARD
TZOFFSETFROM:-0400
TZOFFSETTO:-0500
TZNAME:EST
DTSTART:20251102T060000
END:STANDARD
BEGIN:DAYLIGHT
TZOFFSETFROM:-0500
TZOFFSETTO:-0400
TZNAME:EDT
DTSTART:20260308T070000
END:DAYLIGHT
BEGIN:STANDARD
TZOFFSETFROM:-0400
TZOFFSETTO:-0500
TZNAME:EST
DTSTART:20261101T060000
END:STANDARD
END:VTIMEZONE
BEGIN:VEVENT
DTSTART;TZID=America/New_York:20250208T190000
DTEND;TZID=America/New_York:20250208T210000
DTSTAMP:20260419T114045
CREATED:20250205T102819Z
LAST-MODIFIED:20250205T102819Z
UID:10002590-1739041200-1739048400@ticketguide.ai
SUMMARY:Mount Sinai Opening Show\, Arni Fashion LLC\, N-Couture by Simallure\, Designz by Minaaz
DESCRIPTION:Mount Sinai Opening Show\, Arni Fashion LLC\, N-Couture by Simallure\, Designz by Minaaz\n\n\n\n\nDuring New York Fashion Week Powered by Runway 7\, a distinguished lineup of designers unveiled their latest collections\, each offering a unique perspective on contemporary fashion. \n\nMount Sinai Opening Show – A prestigious event that set the tone for the fashion week\, featuring a curated selection of designers and collections that exemplify innovation and style.\nArni Fashion LLC – A brand known for its vibrant and culturally rich collections\, Arni Fashion LLC made a stunning return to NYFW\, showcasing designs that celebrate diversity and creativity.\nN-Couture by Simallure – Specializing in high-end\, custom-made garments\, N-Couture by Simallure offers sophisticated designs that blend classic elegance with modern trends\, catering to the discerning fashion enthusiast.\nDesignz by Minaaz – Renowned for its exquisite craftsmanship and attention to detail\, Designz by Minaaz presents collections that embody luxury and timeless beauty\, appealing to those seeking refined and elegant fashion pieces.\n\nEach designer brought a distinct vision to the runway\, collectively contributing to a dynamic and trend-forward showcase at this season’s fashion week. \nTickets are available now and Secure your spot and be part of the fashion revolution! \nDiscover more exciting events by clicking here.
URL:https://ticketguide.ai/event/mount-sinai-opening-show-arni-fashion-llc-n-couture-by-simallure-designz-by-minaaz/
LOCATION:Sony Hall\, 235 W 46 St\, New York\, NY\, United States
CATEGORIES:Fashion Week,New York Fashion Week
ATTACH;FMTTYPE=image/jpeg:https://images.newyorkstyleguide.com/cdn-cgi/imagedelivery/iQi6oghKZnTnyD5BhCza-A/events.newyorkstyleguide.com/2025/02/mount-sinai-opening-show-Arni-fashion-LLC-N-couture-by-simallure-Designz-by-minaaz.jpg/w=9999
GEO:40.758686;-73.985322
X-APPLE-STRUCTURED-LOCATION;VALUE=URI;X-ADDRESS=Sony Hall 235 W 46 St New York NY United States;X-APPLE-RADIUS=500;X-TITLE=235 W 46 St:geo:-73.985322,40.758686
END:VEVENT
END:VCALENDAR