BEGIN:VCALENDAR
VERSION:2.0
PRODID:-//Ticket Guide AI - ECPv6.15.14//NONSGML v1.0//EN
CALSCALE:GREGORIAN
METHOD:PUBLISH
X-ORIGINAL-URL:https://ticketguide.ai
X-WR-CALDESC:Events for Ticket Guide AI
REFRESH-INTERVAL;VALUE=DURATION:PT1H
X-Robots-Tag:noindex
X-PUBLISHED-TTL:PT1H
BEGIN:VTIMEZONE
TZID:America/New_York
BEGIN:DAYLIGHT
TZOFFSETFROM:-0500
TZOFFSETTO:-0400
TZNAME:EDT
DTSTART:20240310T070000
END:DAYLIGHT
BEGIN:STANDARD
TZOFFSETFROM:-0400
TZOFFSETTO:-0500
TZNAME:EST
DTSTART:20241103T060000
END:STANDARD
BEGIN:DAYLIGHT
TZOFFSETFROM:-0500
TZOFFSETTO:-0400
TZNAME:EDT
DTSTART:20250309T070000
END:DAYLIGHT
BEGIN:STANDARD
TZOFFSETFROM:-0400
TZOFFSETTO:-0500
TZNAME:EST
DTSTART:20251102T060000
END:STANDARD
BEGIN:DAYLIGHT
TZOFFSETFROM:-0500
TZOFFSETTO:-0400
TZNAME:EDT
DTSTART:20260308T070000
END:DAYLIGHT
BEGIN:STANDARD
TZOFFSETFROM:-0400
TZOFFSETTO:-0500
TZNAME:EST
DTSTART:20261101T060000
END:STANDARD
END:VTIMEZONE
BEGIN:VEVENT
DTSTART;TZID=America/New_York:20250211T130000
DTEND;TZID=America/New_York:20250211T140000
DTSTAMP:20260419T133056
CREATED:20250123T045144Z
LAST-MODIFIED:20250123T045144Z
UID:10002442-1739278800-1739282400@ticketguide.ai
SUMMARY:Cucculelli Shaheen
DESCRIPTION:Cucculelli Shaheen\nCucculelli Shaheen is a New York City-based design house founded in 2016 by Anna Rose Shaheen and Anthony Cucculelli\, a married duo whose shared passion for fashion has defined their partnership. Their design journey began while working in downtown NYC in the mid-2000s\, with a transformative experience in Florence\, Italy\, strengthening their collaboration. With previous work for prestigious brands like Emilio Pucci\, Oscar de la Renta\, Burberry\, and Roberto Cavalli\, their expertise is undeniable. \nCucculelli Shaheen is known for its lush details\, downtown silhouette\, and subversive edge\, drawing inspiration from classical art\, music\, mythology\, and the energy of New York City. The brand has earned global recognition\, appearing in top publications like Vogue\, The New York Times\, and Harper’s Bazaar\, and has dressed a diverse group of powerful personalities\, including Oscar nominees\, musicians\, and social media icons. \nAccess Type: By Invite \nFor more details about upcoming events\, click here.
URL:https://ticketguide.ai/event/cucculelli-shaheen-nyfw-2025/
LOCATION:New York\, New York\, United States
CATEGORIES:Fashion Week,New York Fashion Week
ATTACH;FMTTYPE=image/jpeg:https://images.newyorkstyleguide.com/cdn-cgi/imagedelivery/iQi6oghKZnTnyD5BhCza-A/events.newyorkstyleguide.com/2025/01/cucculelli-Shaheen.jpg/w=9999
GEO:40.7127753;-74.0059728
X-APPLE-STRUCTURED-LOCATION;VALUE=URI;X-ADDRESS=New York New York United States;X-APPLE-RADIUS=500;X-TITLE=New York:geo:-74.0059728,40.7127753
END:VEVENT
END:VCALENDAR