BEGIN:VCALENDAR
VERSION:2.0
PRODID:-//Ticket Guide AI - ECPv6.15.14//NONSGML v1.0//EN
CALSCALE:GREGORIAN
METHOD:PUBLISH
X-ORIGINAL-URL:https://ticketguide.ai
X-WR-CALDESC:Events for Ticket Guide AI
REFRESH-INTERVAL;VALUE=DURATION:PT1H
X-Robots-Tag:noindex
X-PUBLISHED-TTL:PT1H
BEGIN:VTIMEZONE
TZID:Europe/Rome
BEGIN:DAYLIGHT
TZOFFSETFROM:+0100
TZOFFSETTO:+0200
TZNAME:CEST
DTSTART:20240331T010000
END:DAYLIGHT
BEGIN:STANDARD
TZOFFSETFROM:+0200
TZOFFSETTO:+0100
TZNAME:CET
DTSTART:20241027T010000
END:STANDARD
BEGIN:DAYLIGHT
TZOFFSETFROM:+0100
TZOFFSETTO:+0200
TZNAME:CEST
DTSTART:20250330T010000
END:DAYLIGHT
BEGIN:STANDARD
TZOFFSETFROM:+0200
TZOFFSETTO:+0100
TZNAME:CET
DTSTART:20251026T010000
END:STANDARD
BEGIN:DAYLIGHT
TZOFFSETFROM:+0100
TZOFFSETTO:+0200
TZNAME:CEST
DTSTART:20260329T010000
END:DAYLIGHT
BEGIN:STANDARD
TZOFFSETFROM:+0200
TZOFFSETTO:+0100
TZNAME:CET
DTSTART:20261025T010000
END:STANDARD
END:VTIMEZONE
BEGIN:VTIMEZONE
TZID:America/New_York
BEGIN:DAYLIGHT
TZOFFSETFROM:-0500
TZOFFSETTO:-0400
TZNAME:EDT
DTSTART:20230312T070000
END:DAYLIGHT
BEGIN:STANDARD
TZOFFSETFROM:-0400
TZOFFSETTO:-0500
TZNAME:EST
DTSTART:20231105T060000
END:STANDARD
BEGIN:DAYLIGHT
TZOFFSETFROM:-0500
TZOFFSETTO:-0400
TZNAME:EDT
DTSTART:20240310T070000
END:DAYLIGHT
BEGIN:STANDARD
TZOFFSETFROM:-0400
TZOFFSETTO:-0500
TZNAME:EST
DTSTART:20241103T060000
END:STANDARD
BEGIN:DAYLIGHT
TZOFFSETFROM:-0500
TZOFFSETTO:-0400
TZNAME:EDT
DTSTART:20250309T070000
END:DAYLIGHT
BEGIN:STANDARD
TZOFFSETFROM:-0400
TZOFFSETTO:-0500
TZNAME:EST
DTSTART:20251102T060000
END:STANDARD
BEGIN:DAYLIGHT
TZOFFSETFROM:-0500
TZOFFSETTO:-0400
TZNAME:EDT
DTSTART:20260308T070000
END:DAYLIGHT
BEGIN:STANDARD
TZOFFSETFROM:-0400
TZOFFSETTO:-0500
TZNAME:EST
DTSTART:20261101T060000
END:STANDARD
END:VTIMEZONE
BEGIN:VEVENT
DTSTART;TZID=Europe/Rome:20250301T143000
DTEND;TZID=Europe/Rome:20250301T153000
DTSTAMP:20260423T080141
CREATED:20250210T053402Z
LAST-MODIFIED:20250210T053402Z
UID:10002660-1740839400-1740843000@ticketguide.ai
SUMMARY:DOLCE & GABBANA
DESCRIPTION:DOLCE & GABBANA\nDolce & Gabbana\, the renowned Italian luxury fashion house\, presented its latest collection at Milan Fashion Week\, celebrating its signature blend of Sicilian heritage\, opulence\, and timeless elegance. Founded in 1985 by Domenico Dolce and Stefano Gabbana\, the brand has become a global symbol of extravagance and Italian craftsmanship. \nThe collection showcased intricate lacework\, bold baroque patterns\, and sensual silhouettes\, reflecting the designers’ commitment to romanticism and femininity. Tailored suits\, corset dresses\, and rich embellishments dominated the runway\, staying true to the house’s maximalist aesthetic. Luxurious fabrics like silk\, velvet\, and brocade\, paired with handcrafted embroidery\, highlighted the brand’s attention to detail. \nDolce & Gabbana’s signature black lace\, dramatic florals\, and gold accents made a striking impact\, reinforcing the house’s deep connection to Italian culture and history. The collection also incorporated modern tailoring and contemporary elements\, proving the designers’ ability to evolve while preserving their iconic identity. \nFor more details about upcoming events\, click here.
URL:https://ticketguide.ai/event/dolce-gabbana-mfw/
LOCATION:Piazza del Duomo\, Piazza del Duomo\, Milano\, Città metropolitana di Milano\, 20122\, Italy
CATEGORIES:Fashion Week,Milan Fashion Week
ATTACH;FMTTYPE=image/jpeg:https://images.newyorkstyleguide.com/cdn-cgi/imagedelivery/iQi6oghKZnTnyD5BhCza-A/events.newyorkstyleguide.com/2025/02/DOLCEGABBANA.jpg/w=9999
GEO:45.4641941;9.189698
X-APPLE-STRUCTURED-LOCATION;VALUE=URI;X-ADDRESS=Piazza del Duomo Piazza del Duomo Milano Città metropolitana di Milano 20122 Italy;X-APPLE-RADIUS=500;X-TITLE=Piazza del Duomo:geo:9.189698,45.4641941
END:VEVENT
BEGIN:VEVENT
DTSTART;TZID=America/New_York:20250118T123000
DTEND;TZID=America/New_York:20250118T130000
DTSTAMP:20260423T080141
CREATED:20250101T044937Z
LAST-MODIFIED:20250101T045005Z
UID:10002143-1737203400-1737205200@ticketguide.ai
SUMMARY:DOLCE & GABBANA
DESCRIPTION:DOLCE & GABBANA\n\n\n\nIconic Italian luxury fashion brand celebrated for its bold\, sensual designs and dramatic flair. Renowned for its intricate craftsmanship and artistic storytelling\, the brand infuses its collections with Italian heritage\, blending Mediterranean influences with a modern\, avant-garde touch. \nKnown for creating timeless pieces that exude femininity and elegance\, The brand offers a wide range of fashion items\, including ready-to-wear\, haute couture\, and accessories. The brand’s eyewear collection\, licensed through Luxottica\, further exemplifies its dedication to style and quality. \nDolce & Gabbana continues to captivate the fashion world with its unmatched ability to merge tradition with innovation\, solidifying its position as a symbol of Italian luxury and global influence. Its designs are celebrated by style icons and celebrities\, making the brand a cornerstone of contemporary fashion. \n\n\n\nFor more details about upcoming events\, click here.
URL:https://ticketguide.ai/event/dolcegabbana/
LOCATION:VIALE PIAVE\, 24\, VIALE PIAVE\, 24\, Milan\, Italy
CATEGORIES:Fashion Week,Milan Fashion Week
ATTACH;FMTTYPE=image/jpeg:https://images.newyorkstyleguide.com/cdn-cgi/imagedelivery/iQi6oghKZnTnyD5BhCza-A/events.newyorkstyleguide.com/2024/12/DOLCEGABBANA.jpg/w=9999
GEO:45.4715416;9.2068489
X-APPLE-STRUCTURED-LOCATION;VALUE=URI;X-ADDRESS=VIALE PIAVE 24 VIALE PIAVE 24 Milan Italy;X-APPLE-RADIUS=500;X-TITLE=VIALE PIAVE\, 24:geo:9.2068489,45.4715416
END:VEVENT
BEGIN:VEVENT
DTSTART;TZID=America/New_York:20241102T100000
DTEND;TZID=America/New_York:20241107T200000
DTSTAMP:20260423T080141
CREATED:20241010T093015Z
LAST-MODIFIED:20241022T002038Z
UID:10000005-1730541600-1731009600@ticketguide.ai
SUMMARY:CURIO at Faena Bazaar’s Annual Sale
DESCRIPTION:CURIO at Faena Bazaar’s Annual Sale\nThe countdown is on! CURIO at Faena Bazaar’s annual sale is back and bigger than ever. Explore an incredible selection of women’s and menswear from luxury brands like Dolce & Gabbana\, Zimmermann\, Rene Caovilla\, Eres\, Devon Windsor\, Carolina K\, JBQ\, HEVRON\, and more—all available at 50% off for a limited time. Whether you’re shopping for holiday gifts\, treating yourself\, or planning your Art Basel wardrobe\, this sale is not to be missed. Act fast—these deals won’t last! \nSaturday-Thursday\, November 2-7\, 2024\n10 a.m. to 8 p.m. \nCURIO at Faena Bazaar\n3400 Collins Ave.\nMiami Beach\, FL 33140 \nPublic parking next to CURIO\nValet available at Faena Hotel Miami Beach \nFollow @CurioVibe on Instagram for the latest updates! \n  \nFor more details about upcoming events\, click here.
URL:https://ticketguide.ai/event/curio-at-faena-bazaar/
LOCATION:CURIO at Faena Bazaar\, Collins Avenue 3400\, Miami\, FL\, 33140\, United States
CATEGORIES:Luxury,Shopping
ATTACH;FMTTYPE=image/jpeg:https://images.newyorkstyleguide.com/cdn-cgi/imagedelivery/iQi6oghKZnTnyD5BhCza-A/events.newyorkstyleguide.com/2024/10/CURIO-at-Faena-Bazaar.jpg/w=9999
GEO:25.8085853;-80.1238863
X-APPLE-STRUCTURED-LOCATION;VALUE=URI;X-ADDRESS=CURIO at Faena Bazaar Collins Avenue 3400 Miami FL 33140 United States;X-APPLE-RADIUS=500;X-TITLE=Collins Avenue 3400:geo:-80.1238863,25.8085853
END:VEVENT
END:VCALENDAR