BEGIN:VCALENDAR
VERSION:2.0
PRODID:-//Ticket Guide AI - ECPv6.15.14//NONSGML v1.0//EN
CALSCALE:GREGORIAN
METHOD:PUBLISH
X-WR-CALNAME:Ticket Guide AI
X-ORIGINAL-URL:https://ticketguide.ai
X-WR-CALDESC:Events for Ticket Guide AI
REFRESH-INTERVAL;VALUE=DURATION:PT1H
X-Robots-Tag:noindex
X-PUBLISHED-TTL:PT1H
BEGIN:VTIMEZONE
TZID:America/New_York
BEGIN:DAYLIGHT
TZOFFSETFROM:-0500
TZOFFSETTO:-0400
TZNAME:EDT
DTSTART:20240310T070000
END:DAYLIGHT
BEGIN:STANDARD
TZOFFSETFROM:-0400
TZOFFSETTO:-0500
TZNAME:EST
DTSTART:20241103T060000
END:STANDARD
BEGIN:DAYLIGHT
TZOFFSETFROM:-0500
TZOFFSETTO:-0400
TZNAME:EDT
DTSTART:20250309T070000
END:DAYLIGHT
BEGIN:STANDARD
TZOFFSETFROM:-0400
TZOFFSETTO:-0500
TZNAME:EST
DTSTART:20251102T060000
END:STANDARD
BEGIN:DAYLIGHT
TZOFFSETFROM:-0500
TZOFFSETTO:-0400
TZNAME:EDT
DTSTART:20260308T070000
END:DAYLIGHT
BEGIN:STANDARD
TZOFFSETFROM:-0400
TZOFFSETTO:-0500
TZNAME:EST
DTSTART:20261101T060000
END:STANDARD
END:VTIMEZONE
BEGIN:VEVENT
DTSTART;TZID=America/New_York:20250207T110000
DTEND;TZID=America/New_York:20250207T130000
DTSTAMP:20260419T131653
CREATED:20250205T063726Z
LAST-MODIFIED:20250205T063726Z
UID:10002580-1738926000-1738933200@ticketguide.ai
SUMMARY:Megan Alexander\, Tropical Footprints\, Bliss by Mel\, Villa Avenue\, Dream Street\, Smoky Sew Co.\, Pinkeye'V\, Lisle Style\, Perspective Pyra
DESCRIPTION:Megan Alexander\, Tropical Footprints\, Bliss by Mel\, Villa Avenue\, Dream Street\, Smoky Sew Co.\, Pinkeye’V\, Lisle Style\, Perspective Pyra\nDuring New York Fashion Week Powered by Runway 7\, a diverse lineup of designers presented their latest collections\, each bringing a unique creative vision to the runway. \n\nMegan Alexander: Introduced a collection that seamlessly blends classic elegance with modern trends\, featuring timeless pieces reimagined for today’s fashion-forward audience.\nTropical Footprints: Brought the essence of the tropics to the runway with vibrant\, island-inspired designs that capture the spirit of coastal living.\nBliss by Mel: Showcased a range of chic\, comfortable apparel emphasizing relaxed silhouettes and soft fabrics\, perfect for everyday wear.\nVilla Avenue: Presented sophisticated ensembles that exude urban luxury\, combining contemporary cuts with luxurious materials for the modern city dweller.\nDream Street: Unveiled a youthful and playful collection featuring bold patterns and colors\, capturing the essence of youthful exuberance.\nSmoky Sew Co.: Displayed handcrafted garments with a rustic charm\, focusing on artisanal techniques and sustainable fabrics.\nPinkeye’V: Introduced avant-garde designs that challenge traditional fashion norms\, featuring experimental silhouettes and unique fabric combinations.\nLisle Style: Showcased minimalist designs with clean lines and neutral tones\, emphasizing simplicity and elegance.\nPerspective Pyra: Presented a futuristic collection with geometric patterns and innovative materials\, pushing the boundaries of contemporary fashion.\n\nEach designer contributed a distinct perspective\, collectively shaping a dynamic and trend-forward showcase at this season’s fashion week. \n\n\n\n\n\n\nTickets are available now and Secure your spot and be part of the fashion revolution!\n\n\n\nDiscover more exciting events by clicking here.
URL:https://ticketguide.ai/event/megan-alexander-tropical-footprints-bliss-by-mel-villa-avenue-dream-street-smoky-sew-co-pinkeyev-lisle-style-perspective-pyra/
LOCATION:Sony Hall\, 235 W 46 St\, New York\, NY\, United States
CATEGORIES:Fashion Week,New York Fashion Week
ATTACH;FMTTYPE=image/jpeg:https://images.newyorkstyleguide.com/cdn-cgi/imagedelivery/iQi6oghKZnTnyD5BhCza-A/events.newyorkstyleguide.com/2025/02/Megan-Alexander-Tropical-Footprints-Bliss-by-Mel-Villa-Avenue-Dream-Street-Smoky-Sew-Co.-Pinkeye-V-Lisle-Style-Perspective-Pyra.jpg/w=9999
GEO:40.758686;-73.985322
X-APPLE-STRUCTURED-LOCATION;VALUE=URI;X-ADDRESS=Sony Hall 235 W 46 St New York NY United States;X-APPLE-RADIUS=500;X-TITLE=235 W 46 St:geo:-73.985322,40.758686
END:VEVENT
END:VCALENDAR