BEGIN:VCALENDAR
VERSION:2.0
PRODID:-//Ticket Guide AI - ECPv6.15.14//NONSGML v1.0//EN
CALSCALE:GREGORIAN
METHOD:PUBLISH
X-WR-CALNAME:Ticket Guide AI
X-ORIGINAL-URL:https://ticketguide.ai
X-WR-CALDESC:Events for Ticket Guide AI
REFRESH-INTERVAL;VALUE=DURATION:PT1H
X-Robots-Tag:noindex
X-PUBLISHED-TTL:PT1H
BEGIN:VTIMEZONE
TZID:America/New_York
BEGIN:DAYLIGHT
TZOFFSETFROM:-0500
TZOFFSETTO:-0400
TZNAME:EDT
DTSTART:20230312T070000
END:DAYLIGHT
BEGIN:STANDARD
TZOFFSETFROM:-0400
TZOFFSETTO:-0500
TZNAME:EST
DTSTART:20231105T060000
END:STANDARD
BEGIN:DAYLIGHT
TZOFFSETFROM:-0500
TZOFFSETTO:-0400
TZNAME:EDT
DTSTART:20240310T070000
END:DAYLIGHT
BEGIN:STANDARD
TZOFFSETFROM:-0400
TZOFFSETTO:-0500
TZNAME:EST
DTSTART:20241103T060000
END:STANDARD
BEGIN:DAYLIGHT
TZOFFSETFROM:-0500
TZOFFSETTO:-0400
TZNAME:EDT
DTSTART:20250309T070000
END:DAYLIGHT
BEGIN:STANDARD
TZOFFSETFROM:-0400
TZOFFSETTO:-0500
TZNAME:EST
DTSTART:20251102T060000
END:STANDARD
END:VTIMEZONE
BEGIN:VEVENT
DTSTART;TZID=America/New_York:20240908T200000
DTEND;TZID=America/New_York:20240908T210000
DTSTAMP:20260420T075835
CREATED:20241013T021111Z
LAST-MODIFIED:20241024T104716Z
UID:10001646-1725825600-1725829200@ticketguide.ai
SUMMARY:Eckhaus Latta
DESCRIPTION:Eckhaus Latta\nThe avant-garde fashion brand\, returned to New York Fashion Week with a collection that seamlessly blended art and fashion. Known for its experimental approach\, the brand presented designs that played with unconventional materials and textures\, pushing the boundaries of traditional fashion. The collection featured a mix of structured silhouettes and flowing fabrics\, creating a unique contrast that captured the essence of modernity. Eckhaus Latta’s commitment to sustainability was also evident\, with several pieces made from recycled and upcycled materials. The brand’s focus on inclusivity and diversity was reflected in the casting\, with models of various backgrounds and body types gracing the runway. This show highlighted Eckhaus Latta’s continued influence in redefining the fashion landscape\, offering a fresh perspective that resonates with today’s fashion-forward audience. \nDiscover more exciting events by clicking here.
URL:https://ticketguide.ai/event/eckhaus-latta-2024/
LOCATION:West Edge NYC\, 88 10th Ave\, New York\, NY 10011\, United States\, New York\, NY\, 10011\, United States
CATEGORIES:Fashion Week,New York Fashion Week
ATTACH;FMTTYPE=image/png:https://images.newyorkstyleguide.com/cdn-cgi/imagedelivery/iQi6oghKZnTnyD5BhCza-A/events.newyorkstyleguide.com/2024/10/Eckhaus-Latta-fTUDGY.tmp_.png/w=9999
GEO:40.7366995;-73.993124
X-APPLE-STRUCTURED-LOCATION;VALUE=URI;X-ADDRESS=West Edge NYC 88 10th Ave New York NY 10011 United States New York NY 10011 United States;X-APPLE-RADIUS=500;X-TITLE=88 10th Ave\, New York\, NY 10011\, United States:geo:-73.993124,40.7366995
END:VEVENT
END:VCALENDAR