BEGIN:VCALENDAR
VERSION:2.0
PRODID:-//Ticket Guide AI - ECPv6.15.14//NONSGML v1.0//EN
CALSCALE:GREGORIAN
METHOD:PUBLISH
X-WR-CALNAME:Ticket Guide AI
X-ORIGINAL-URL:https://ticketguide.ai
X-WR-CALDESC:Events for Ticket Guide AI
REFRESH-INTERVAL;VALUE=DURATION:PT1H
X-Robots-Tag:noindex
X-PUBLISHED-TTL:PT1H
BEGIN:VTIMEZONE
TZID:America/New_York
BEGIN:DAYLIGHT
TZOFFSETFROM:-0500
TZOFFSETTO:-0400
TZNAME:EDT
DTSTART:20230312T070000
END:DAYLIGHT
BEGIN:STANDARD
TZOFFSETFROM:-0400
TZOFFSETTO:-0500
TZNAME:EST
DTSTART:20231105T060000
END:STANDARD
BEGIN:DAYLIGHT
TZOFFSETFROM:-0500
TZOFFSETTO:-0400
TZNAME:EDT
DTSTART:20240310T070000
END:DAYLIGHT
BEGIN:STANDARD
TZOFFSETFROM:-0400
TZOFFSETTO:-0500
TZNAME:EST
DTSTART:20241103T060000
END:STANDARD
BEGIN:DAYLIGHT
TZOFFSETFROM:-0500
TZOFFSETTO:-0400
TZNAME:EDT
DTSTART:20250309T070000
END:DAYLIGHT
BEGIN:STANDARD
TZOFFSETFROM:-0400
TZOFFSETTO:-0500
TZNAME:EST
DTSTART:20251102T060000
END:STANDARD
END:VTIMEZONE
BEGIN:VEVENT
DTSTART;TZID=America/New_York:20240906T184500
DTEND;TZID=America/New_York:20240906T190000
DTSTAMP:20260420T034542
CREATED:20241013T015609Z
LAST-MODIFIED:20241024T105144Z
UID:10001597-1725648300-1725649200@ticketguide.ai
SUMMARY:eKaye Collection
DESCRIPTION:eKaye Collection\n\n\n\n\nThe eKaye Collection\, designed by Emily Sifrit\, will be showcased at New York Fashion Week Powered by Miami Swim Week®. Emily Sifrit\, the founder and creative force behind the brand\, hails from south Chicagoland and has been sewing since she was just seven years old. By 19\, she had turned her lifelong passion into a career\, creating couture pieces that are both edgy and timeless. The eKaye Collection is known for its unique use of materials like burlap\, industrial tarps\, and canvas\, transforming them into rare and striking garments. \nEmily’s designs are versatile\, feminine\, and exude pure sensuality\, capturing attention on an international scale. This event will highlight her commitment to the future of fashion while honoring the roots of art and craftsmanship. Experience the innovative and bold eKaye Collection as it takes center stage at this prestigious fashion event. \nDiscover more exciting events by clicking here.
URL:https://ticketguide.ai/event/ekaye-collection/
LOCATION:Paramount Building\, 1501 Broadway\, New York\, NY 10036\, United States\, New York\, NY\, 10036\, United States
CATEGORIES:Fashion Week,New York Fashion Week
ATTACH;FMTTYPE=image/jpeg:https://images.newyorkstyleguide.com/cdn-cgi/imagedelivery/iQi6oghKZnTnyD5BhCza-A/events.newyorkstyleguide.com/2024/10/eKaye-Collection-ZWnxcU.tmp_.jpg/w=9999
GEO:40.7545596;-73.9864036
X-APPLE-STRUCTURED-LOCATION;VALUE=URI;X-ADDRESS=Paramount Building 1501 Broadway New York NY 10036 United States New York NY 10036 United States;X-APPLE-RADIUS=500;X-TITLE=1501 Broadway\, New York\, NY 10036\, United States:geo:-73.9864036,40.7545596
END:VEVENT
END:VCALENDAR