BEGIN:VCALENDAR
VERSION:2.0
PRODID:-//Ticket Guide AI - ECPv6.15.14//NONSGML v1.0//EN
CALSCALE:GREGORIAN
METHOD:PUBLISH
X-WR-CALNAME:Ticket Guide AI
X-ORIGINAL-URL:https://ticketguide.ai
X-WR-CALDESC:Events for Ticket Guide AI
REFRESH-INTERVAL;VALUE=DURATION:PT1H
X-Robots-Tag:noindex
X-PUBLISHED-TTL:PT1H
BEGIN:VTIMEZONE
TZID:America/New_York
BEGIN:DAYLIGHT
TZOFFSETFROM:-0500
TZOFFSETTO:-0400
TZNAME:EDT
DTSTART:20230312T070000
END:DAYLIGHT
BEGIN:STANDARD
TZOFFSETFROM:-0400
TZOFFSETTO:-0500
TZNAME:EST
DTSTART:20231105T060000
END:STANDARD
BEGIN:DAYLIGHT
TZOFFSETFROM:-0500
TZOFFSETTO:-0400
TZNAME:EDT
DTSTART:20240310T070000
END:DAYLIGHT
BEGIN:STANDARD
TZOFFSETFROM:-0400
TZOFFSETTO:-0500
TZNAME:EST
DTSTART:20241103T060000
END:STANDARD
BEGIN:DAYLIGHT
TZOFFSETFROM:-0500
TZOFFSETTO:-0400
TZNAME:EDT
DTSTART:20250309T070000
END:DAYLIGHT
BEGIN:STANDARD
TZOFFSETFROM:-0400
TZOFFSETTO:-0500
TZNAME:EST
DTSTART:20251102T060000
END:STANDARD
END:VTIMEZONE
BEGIN:VEVENT
DTSTART;TZID=America/New_York:20241204T180000
DTEND;TZID=America/New_York:20241204T220000
DTSTAMP:20260423T075731
CREATED:20241118T122153Z
LAST-MODIFIED:20241202T064225Z
UID:10001965-1733335200-1733349600@ticketguide.ai
SUMMARY:COSMIC PARTY at Arlo Wynwood
DESCRIPTION:COSMIC PARTY at Arlo Wynwood: Miami Art Week Opening Reception\nThe Arlo’s Living Room Gallery: Miami Art Week Opening Reception is set to take place on Wednesday\, December 4\, from 6 to 10 p.m. at Arlo Wynwood. Known for its immersive art experiences\, Arlo Wynwood kicks off Miami Art Week in collaboration with British artist Chris Rivers for an exclusive exhibition titled Cosmos. Rivers’ artwork dives deep into the vastness of the cosmos and explores the complexities of the human condition and the endless possibilities of the universe. \nThe Cosmos exhibition will showcase Rivers’ unique approach to art\, combining elements of abstract expressionism with influences from rococo style. The artist’s work is characterized by soft lighting\, vivid contrasts\, and intricate details\, inviting viewers to explore the beauty of both cosmic systems and humanity. \nDuring the reception\, attendees will have the opportunity to meet Rivers\, enjoy cosmic-themed cocktails\, and immerse themselves in the lively energy of Miami Art Week. A live DJ performance will set the tone as guests engage with art\, conversation\, and drinks at the third-floor gallery of Arlo Wynwood. This event is free and open to the public\, and RSVPs are available through Eventbrite. Bring your friends for an evening of art\, music\, and immersive discussion. \nFor more details about upcoming events\, click here.
URL:https://ticketguide.ai/event/cosmic-party-at-arlo-wynwood/
LOCATION:Arlo Wynwood\, Northwest Miami Court 2217\, Miami\, FL\, 33127\, United States
CATEGORIES:Art Basel and Miami Art Week,Arts
ATTACH;FMTTYPE=image/jpeg:https://images.newyorkstyleguide.com/cdn-cgi/imagedelivery/iQi6oghKZnTnyD5BhCza-A/events.newyorkstyleguide.com/2024/11/Arlos-Living-Room-Gallery-Miami-Art-Week-Opening-Reception.jpg/w=9999
GEO:25.798431;-80.195585
X-APPLE-STRUCTURED-LOCATION;VALUE=URI;X-ADDRESS=Arlo Wynwood Northwest Miami Court 2217 Miami FL 33127 United States;X-APPLE-RADIUS=500;X-TITLE=Northwest Miami Court 2217:geo:-80.195585,25.798431
END:VEVENT
END:VCALENDAR