BEGIN:VCALENDAR
VERSION:2.0
PRODID:-//Ticket Guide AI - ECPv6.15.14//NONSGML v1.0//EN
CALSCALE:GREGORIAN
METHOD:PUBLISH
X-WR-CALNAME:Ticket Guide AI
X-ORIGINAL-URL:https://ticketguide.ai
X-WR-CALDESC:Events for Ticket Guide AI
REFRESH-INTERVAL;VALUE=DURATION:PT1H
X-Robots-Tag:noindex
X-PUBLISHED-TTL:PT1H
BEGIN:VTIMEZONE
TZID:America/New_York
BEGIN:DAYLIGHT
TZOFFSETFROM:-0500
TZOFFSETTO:-0400
TZNAME:EDT
DTSTART:20240310T070000
END:DAYLIGHT
BEGIN:STANDARD
TZOFFSETFROM:-0400
TZOFFSETTO:-0500
TZNAME:EST
DTSTART:20241103T060000
END:STANDARD
BEGIN:DAYLIGHT
TZOFFSETFROM:-0500
TZOFFSETTO:-0400
TZNAME:EDT
DTSTART:20250309T070000
END:DAYLIGHT
BEGIN:STANDARD
TZOFFSETFROM:-0400
TZOFFSETTO:-0500
TZNAME:EST
DTSTART:20251102T060000
END:STANDARD
BEGIN:DAYLIGHT
TZOFFSETFROM:-0500
TZOFFSETTO:-0400
TZNAME:EDT
DTSTART:20260308T070000
END:DAYLIGHT
BEGIN:STANDARD
TZOFFSETFROM:-0400
TZOFFSETTO:-0500
TZNAME:EST
DTSTART:20261101T060000
END:STANDARD
END:VTIMEZONE
BEGIN:VEVENT
DTSTART;TZID=America/New_York:20250206T190000
DTEND;TZID=America/New_York:20250206T210000
DTSTAMP:20260419T131530
CREATED:20250205T050513Z
LAST-MODIFIED:20250205T050529Z
UID:10002578-1738868400-1738875600@ticketguide.ai
SUMMARY:Naeem Khan Award Presentation\, W for Women\, Gemini Hues by Neha Goel\, Cause & Effect\, Art of Thread
DESCRIPTION:Naeem Khan Award Presentation\, W for Women\, Gemini Hues by Neha Goel\, Cause & Effect\, Art of Thread\nDuring New York Fashion Week Powered by Runway 7\, a diverse lineup of designers presented their latest collections\, each bringing a unique creative vision to the runway. \n\nNaeem Khan Award Presentation – Celebrated designer Naeem Khan was honored with the “Excellence in Design” award\, showcasing his signature intricate embellishments and luxurious fabrics.\nW for Women – Presented contemporary ethnic wear\, blending traditional Indian textiles with modern silhouettes for the modern woman.\nGemini Hues by Neha Goel – Introduced a vibrant collection featuring handcrafted jewelry that combines traditional craftsmanship with contemporary designs.\nCause & Effect – Displayed sustainable fashion pieces\, emphasizing eco-friendly materials and ethical production practices.\nArt of Thread – Showcased intricate embroidery and textile art\, highlighting the beauty of handcrafted garments.\n\nEach designer contributed a distinct perspective\, collectively shaping a dynamic and trend-forward showcase at this season’s fashion week. \nTickets are available now and Secure your spot and be part of the fashion revolution! \nDiscover more exciting events by clicking here.
URL:https://ticketguide.ai/event/naeem-khan-award-presentation-w-for-women-gemini-hues-by-neha-goel-cause-effect-art-of-thread/
LOCATION:Sony Hall\, 235 W 46 St\, New York\, NY\, United States
CATEGORIES:Fashion Week,New York Fashion Week
ATTACH;FMTTYPE=image/jpeg:https://images.newyorkstyleguide.com/cdn-cgi/imagedelivery/iQi6oghKZnTnyD5BhCza-A/events.newyorkstyleguide.com/2025/02/Naeem-Khan-Award-Presentation-W-for-Women-Gemini-Hues-by-Neha-Goel-Cause-Effect-Art-of-Thread.jpg/w=9999
GEO:40.758686;-73.985322
X-APPLE-STRUCTURED-LOCATION;VALUE=URI;X-ADDRESS=Sony Hall 235 W 46 St New York NY United States;X-APPLE-RADIUS=500;X-TITLE=235 W 46 St:geo:-73.985322,40.758686
END:VEVENT
END:VCALENDAR