BEGIN:VCALENDAR
VERSION:2.0
PRODID:-//Ticket Guide AI - ECPv6.15.14//NONSGML v1.0//EN
CALSCALE:GREGORIAN
METHOD:PUBLISH
X-WR-CALNAME:Ticket Guide AI
X-ORIGINAL-URL:https://ticketguide.ai
X-WR-CALDESC:Events for Ticket Guide AI
REFRESH-INTERVAL;VALUE=DURATION:PT1H
X-Robots-Tag:noindex
X-PUBLISHED-TTL:PT1H
BEGIN:VTIMEZONE
TZID:America/New_York
BEGIN:DAYLIGHT
TZOFFSETFROM:-0500
TZOFFSETTO:-0400
TZNAME:EDT
DTSTART:20230312T070000
END:DAYLIGHT
BEGIN:STANDARD
TZOFFSETFROM:-0400
TZOFFSETTO:-0500
TZNAME:EST
DTSTART:20231105T060000
END:STANDARD
BEGIN:DAYLIGHT
TZOFFSETFROM:-0500
TZOFFSETTO:-0400
TZNAME:EDT
DTSTART:20240310T070000
END:DAYLIGHT
BEGIN:STANDARD
TZOFFSETFROM:-0400
TZOFFSETTO:-0500
TZNAME:EST
DTSTART:20241103T060000
END:STANDARD
BEGIN:DAYLIGHT
TZOFFSETFROM:-0500
TZOFFSETTO:-0400
TZNAME:EDT
DTSTART:20250309T070000
END:DAYLIGHT
BEGIN:STANDARD
TZOFFSETFROM:-0400
TZOFFSETTO:-0500
TZNAME:EST
DTSTART:20251102T060000
END:STANDARD
END:VTIMEZONE
BEGIN:VEVENT
DTSTART;TZID=America/New_York:20241204T190000
DTEND;TZID=America/New_York:20241208T150000
DTSTAMP:20260422T080314
CREATED:20241107T043037Z
LAST-MODIFIED:20241107T043037Z
UID:10001927-1733338800-1733670000@ticketguide.ai
SUMMARY:Ink Miami Art Fair 2024
DESCRIPTION:Ink Miami Art Fair 2024\nImmerse yourself in a captivating world of contemporary art at the Ink Miami Art Fair 2024\, a distinctive Miami Art Week event dedicated to works on paper by globally celebrated artists. Taking place from December 4-8\, 2024 at the Dorchester Hotel in Miami Beach\, this fair offers art enthusiasts and collectors an exclusive experience amid the hotel’s historic suites and serene courtyards. \nSponsored by the International Fine Print Dealers Association (IFPDA)\, the Ink Miami Art Fair stands out for its specialized focus\, featuring an impressive range of 20th-century masterworks alongside the latest editions by today’s most prominent contemporary artists. Visitors can expect an expertly curated selection of prints and paper-based artworks\, making this event a must-see for both seasoned collectors and newcomers. \nEvent Highlights:\n\nDates: December 4-8\, 2024\nLocation: Dorchester Hotel\, Miami Beach\nHours:\n\nWednesday: Noon – 7 PM\nThursday to Saturday: 10 AM – 7 PM\nSunday: 10 AM – 3 PM\n\n\nFocus: Contemporary works on paper by internationally renowned artists\nExhibitors: Members of the International Fine Print Dealers Association (IFPDA) showcasing a diverse survey of masterworks and new editions\n\nDon’t miss this unique opportunity to explore remarkable works on paper in an intimate\, historic setting. \nFor more details about upcoming events\, click here.
URL:https://ticketguide.ai/event/ink-miami-art-fair-2024-2/
LOCATION:The Dorchester Hotel\, Collins Avenue 1850\, Miami Beach\, FL\, 33139\, United States
CATEGORIES:Art Basel and Miami Art Week,Arts
ATTACH;FMTTYPE=image/jpeg:https://images.newyorkstyleguide.com/cdn-cgi/imagedelivery/iQi6oghKZnTnyD5BhCza-A/events.newyorkstyleguide.com/2024/11/Ink-Miami-Art-Fair-2024.jpg/w=9999
GEO:25.7948828;-80.1298322
X-APPLE-STRUCTURED-LOCATION;VALUE=URI;X-ADDRESS=The Dorchester Hotel Collins Avenue 1850 Miami Beach FL 33139 United States;X-APPLE-RADIUS=500;X-TITLE=Collins Avenue 1850:geo:-80.1298322,25.7948828
END:VEVENT
END:VCALENDAR