BEGIN:VCALENDAR
VERSION:2.0
PRODID:-//Ticket Guide AI - ECPv6.15.14//NONSGML v1.0//EN
CALSCALE:GREGORIAN
METHOD:PUBLISH
X-WR-CALNAME:Ticket Guide AI
X-ORIGINAL-URL:https://ticketguide.ai
X-WR-CALDESC:Events for Ticket Guide AI
REFRESH-INTERVAL;VALUE=DURATION:PT1H
X-Robots-Tag:noindex
X-PUBLISHED-TTL:PT1H
BEGIN:VTIMEZONE
TZID:America/New_York
BEGIN:DAYLIGHT
TZOFFSETFROM:-0500
TZOFFSETTO:-0400
TZNAME:EDT
DTSTART:20230312T070000
END:DAYLIGHT
BEGIN:STANDARD
TZOFFSETFROM:-0400
TZOFFSETTO:-0500
TZNAME:EST
DTSTART:20231105T060000
END:STANDARD
BEGIN:DAYLIGHT
TZOFFSETFROM:-0500
TZOFFSETTO:-0400
TZNAME:EDT
DTSTART:20240310T070000
END:DAYLIGHT
BEGIN:STANDARD
TZOFFSETFROM:-0400
TZOFFSETTO:-0500
TZNAME:EST
DTSTART:20241103T060000
END:STANDARD
BEGIN:DAYLIGHT
TZOFFSETFROM:-0500
TZOFFSETTO:-0400
TZNAME:EDT
DTSTART:20250309T070000
END:DAYLIGHT
BEGIN:STANDARD
TZOFFSETFROM:-0400
TZOFFSETTO:-0500
TZNAME:EST
DTSTART:20251102T060000
END:STANDARD
END:VTIMEZONE
BEGIN:VEVENT
DTSTART;TZID=America/New_York:20241205T200000
DTEND;TZID=America/New_York:20241207T210000
DTSTAMP:20260420T074006
CREATED:20241203T052338Z
LAST-MODIFIED:20241203T052428Z
UID:10002007-1733428800-1733605200@ticketguide.ai
SUMMARY:Gallery Media Group Celebrates Return to Miami Art Week
DESCRIPTION:Gallery Media Group Celebrates Return to Miami Art Week\nGallery Media Group is back to ignite the artistic spirit during Miami Art Week with an immersive series of events at the iconic Gallery Art House. Running from December 5th to December 7th\, this vibrant celebration fuses art\, music\, fashion\, and culinary delights\, creating unforgettable moments celebrating bold creativity and innovation. \nEvent Highlights:\n\nThursday\, December 5th\n\nTeddy After Dark (8:00 PM–11:00 PM ET): Kick off your weekend at “Teddy After Dark\,” a glamorous after-party showcasing Maybelline’s Teddy Tint Lip Tint. Dive into the boldness of Miami’s art scene with high-energy beats by DJ Millie\, striking oversized art installations\, and signature gummy bear cocktails. This evening celebrates bold colors\, lasting impressions\, and Miami’s electric nightlife energy.\n\n\nFriday\, December 6th\n\nWhat Dreams Are Made Of Brunch (12:00 PM–3:00 PM ET): Savor a dream-inspired four-course brunch crafted by Emilie Blatz\, set against a vibrant\, photo-worthy dreamscape. Guests will leave with custom silk headscarves\, a piece of the dream to cherish.\nGallery Art House x PATRÓN (7:00 PM – 10:00 PM ET): For the first time\, PATRÓN brings its legendary Montauk party series\, Shark Attack Sounds Redux\, to Miami. Hosted by famed photographer Ben Watts\, the evening features vibrant sounds by Dombresky\, captivating photography exhibitions\, and a unique bottle customization station where guests can etch Miami’s skyline onto exclusive PATRÓN bottles.\n\n\nSaturday\, December 7th\n\nUlta Beauty’s House of Joy Beauty Bar and Brunch (10:00 AM–3:00 PM ET): Begin your day with pre-brunch beauty sessions and a glamorous brunch featuring exclusive product testing and personalized gifting experiences.\nINFINITI Innovator Dinner (6:00 PM–9:00 PM ET): Dive into luxury with a curated dinner exploring INFINITI’s “Infinitely You” theme. Hosted by Preston Konrad\, this experience combines culinary artistry with discussions on design\, individuality\, and innovation.\n\n\n\nThis event series complements the artistic fervor of Miami Art Week\, offering attendees a multidimensional experience blending music\, beauty\, gastronomy\, and culture. \nFor more details about upcoming events\, click here.
URL:https://ticketguide.ai/event/gallery-media-group-celebrates-return-to-miami-art-week/
LOCATION:Gallery Art House\, Northwest 26th Street 221\, Miami\, FL\, 33127\, United States
CATEGORIES:Art Basel and Miami Art Week,Arts
ATTACH;FMTTYPE=image/jpeg:https://images.newyorkstyleguide.com/cdn-cgi/imagedelivery/iQi6oghKZnTnyD5BhCza-A/events.newyorkstyleguide.com/2024/12/Gallery-Media-Group-Celebrates-Return-to-Miami-Art-Week.jpg/w=9999
GEO:25.8016513;-80.1995028
X-APPLE-STRUCTURED-LOCATION;VALUE=URI;X-ADDRESS=Gallery Art House Northwest 26th Street 221 Miami FL 33127 United States;X-APPLE-RADIUS=500;X-TITLE=Northwest 26th Street 221:geo:-80.1995028,25.8016513
END:VEVENT
BEGIN:VEVENT
DTSTART;TZID=America/New_York:20241202T080000
DTEND;TZID=America/New_York:20241208T170000
DTSTAMP:20260420T074006
CREATED:20241202T104609Z
LAST-MODIFIED:20241204T051238Z
UID:10002006-1733126400-1733677200@ticketguide.ai
SUMMARY:BitBasel 5th Anniversary at Sagamore Hotel
DESCRIPTION:BitBasel 5th Anniversary at Sagamore Hotel\nCelebrating its milestone 5th anniversary\, BitBasel returns to Miami Art Week with a spectacular showcase of art\, technology\, and innovation. Taking over the iconic Sagamore Hotel from Monday\, December 2\, to Sunday\, December 8\, this week-long celebration promises an electrifying lineup of events that merge creativity with cutting-edge advancements in the art world. \nExpect interactive workshops\, thought-provoking panel discussions\, awe-inspiring digital art installations\, and a host of vibrant networking opportunities. BitBasel 2025 will also spotlight sustainable practices\, women leaders in tech\, and the future of creativity through a series of curated events. \nEvent Schedule:\n\nMonday\, December 2\n\nGuardians Of The Reef (1 PM – 5 PM): Dive into ocean conservation and art’s role in sustainability.\nMichelangelo Exhibition VIP Vernissage (10 PM – 12 AM): Experience seven rare silver sculptures by Michelangelo in this once-in-a-lifetime showcase.\n\n\nTuesday\, December 3\n\nMiami Art Week Family Office Forum Beyond A.I. (1 PM – 5 PM): Discover how AI is reshaping art and technology.\n“FosterDreamzzz” Powered by NASA (6 PM – 12 AM): A heartfelt evening benefiting foster care youth\, featuring photography by astronaut Don Petit.\n\n\nWednesday\, December 4\n\nVC Start-up Connect (1 PM – 5 PM): Join leading blockchain innovators and startups for networking and pitching.\nFriends From NY with DJ Rich Medina (8 PM – 12 AM): An evening of music\, art\, and NYC vibes co-hosted by special guests.\n\n\nFriday\, December 6\n\nUnveiling The Arts Horizon (11 AM – 5 PM): Celebrate the fusion of tradition and digital innovation with visionary talks and performances.\nMooon.Party Vol2* (8 PM – 1 AM): A celestial-themed celebration of art and technology.\n\n\nSaturday\, December 7\n\nThe Future Of The Arts (8 PM – 1 AM): Explore the evolving landscape of arts in partnership with TIME Studios\, hosted by Derrick Adams and featuring Dave Guy.\n\n\nSunday\, December 8\n\nVisible Women Brunch (10 AM – 2 PM): A gathering celebrating women leaders in tech and innovation.\n305 Pool Party (3 PM – 12 AM): Dance the night away with live music by Nappy Roots\, Mims\, and surprise guests.\n\n\n\nDon’t miss this vibrant intersection of art and technology at BitBasel 5th Anniversary at Sagamore Hotel during Miami Art Week. \nFor more details about upcoming events\, click here.
URL:https://ticketguide.ai/event/bitbasel-5th-anniversary-at-sagamore-hotel/
LOCATION:The Sagamore Hotel\, The Sagamore\, 1671 Collins Ave\, Miami Beach\, FL 33139\, USA\, Miami Beach\, FL\, United States
CATEGORIES:Art Basel and Miami Art Week,Arts
ATTACH;FMTTYPE=image/jpeg:https://images.newyorkstyleguide.com/cdn-cgi/imagedelivery/iQi6oghKZnTnyD5BhCza-A/events.newyorkstyleguide.com/2024/12/BitBasel-5th-Anniversary-at-Sagamore-Hotel.jpg/w=9999
GEO:25.791391;-80.129802
X-APPLE-STRUCTURED-LOCATION;VALUE=URI;X-ADDRESS=The Sagamore Hotel The Sagamore 1671 Collins Ave Miami Beach FL 33139 USA Miami Beach FL United States;X-APPLE-RADIUS=500;X-TITLE=The Sagamore\, 1671 Collins Ave\, Miami Beach\, FL 33139\, USA:geo:-80.129802,25.791391
END:VEVENT
END:VCALENDAR