BEGIN:VCALENDAR
VERSION:2.0
PRODID:-//Ticket Guide AI - ECPv6.15.14//NONSGML v1.0//EN
CALSCALE:GREGORIAN
METHOD:PUBLISH
X-WR-CALNAME:Ticket Guide AI
X-ORIGINAL-URL:https://ticketguide.ai
X-WR-CALDESC:Events for Ticket Guide AI
REFRESH-INTERVAL;VALUE=DURATION:PT1H
X-Robots-Tag:noindex
X-PUBLISHED-TTL:PT1H
BEGIN:VTIMEZONE
TZID:America/New_York
BEGIN:DAYLIGHT
TZOFFSETFROM:-0500
TZOFFSETTO:-0400
TZNAME:EDT
DTSTART:20240310T070000
END:DAYLIGHT
BEGIN:STANDARD
TZOFFSETFROM:-0400
TZOFFSETTO:-0500
TZNAME:EST
DTSTART:20241103T060000
END:STANDARD
BEGIN:DAYLIGHT
TZOFFSETFROM:-0500
TZOFFSETTO:-0400
TZNAME:EDT
DTSTART:20250309T070000
END:DAYLIGHT
BEGIN:STANDARD
TZOFFSETFROM:-0400
TZOFFSETTO:-0500
TZNAME:EST
DTSTART:20251102T060000
END:STANDARD
BEGIN:DAYLIGHT
TZOFFSETFROM:-0500
TZOFFSETTO:-0400
TZNAME:EDT
DTSTART:20260308T070000
END:DAYLIGHT
BEGIN:STANDARD
TZOFFSETFROM:-0400
TZOFFSETTO:-0500
TZNAME:EST
DTSTART:20261101T060000
END:STANDARD
END:VTIMEZONE
BEGIN:VEVENT
DTSTART;TZID=America/New_York:20250209T110000
DTEND;TZID=America/New_York:20250209T130000
DTSTAMP:20260419T131156
CREATED:20250205T103950Z
LAST-MODIFIED:20250205T103950Z
UID:10002592-1739098800-1739106000@ticketguide.ai
SUMMARY:Efelh\, Justmyne\, Kema\, Steevteez\, Vervineus\, Her Sophisticated Treasures\, Azarie x 24\, JD Stones
DESCRIPTION:Efelh\, Justmyne\, Kema\, Steevteez\, Vervineus\, Her Sophisticated Treasures\, Azarie x 24\, JD Stones\nDuring New York Fashion Week Powered by Runway 7\, a distinguished lineup of designers unveiled their latest collections\, each offering a unique perspective on contemporary fashion. \n\nEfelh – A Chilean brand founded by designer Filippa Lemah\, Efelh presents a collection that blends traditional craftsmanship with modern aesthetics\, offering pieces that are both timeless and contemporary.\nJustmyne – Specializing in custom-made and versatile clothing\, Justmyne offers designs tailored to flatter individual body shapes\, empowering clients to express their personal style with confidence.\nKema – An Italian fashion brand based in Milan\, Kema is known for its stylish creations that embody the essence of Italian elegance and craftsmanship\, offering pieces that are both chic and sophisticated.\nSteevteez – A Bermuda-themed online department store\, Steevteez offers a range of products including hats\, t-shirts\, swimwear\, and dresses\, catering to diverse fashion preferences with a tropical flair.\nVervineus – Celebrated for its inclusive and trendy fashion\, Vervineus offers a wide range of clothing\, shoes\, accessories\, and beauty products\, ensuring every woman can find pieces that celebrate her unique flair.\nHer Sophisticated Treasures – Based in Brooklyn\, New York\, Her Sophisticated Treasures specializes in satin caps and accessories\, offering elegant and stylish pieces that complement various fashion styles.\nAzarie x 24 – Founded by head stylist Azarie\, Azarie x 24 offers unisex streetwear designed to make lasting impressions\, assisting clients in defining and modernizing their personal image or professional brand.\nJD Stones – A Detroit-based brand\, JD Stones specializes in custom-designed clothes\, shoes\, and accessories\, enhancing style for women\, men\, and children with unique and personalized pieces.\n\nEach designer brought a distinct vision to the runway\, collectively contributing to a dynamic and trend-forward showcase at this season’s fashion week. \nTickets are available now and Secure your spot and be part of the fashion revolution! \nDiscover more exciting events by clicking here.
URL:https://ticketguide.ai/event/efelh-justmyne-kema-steevteez-vervineus-her-sophisticated-treasures-azarie-x-24-jd-stones/
LOCATION:Sony Hall\, 235 W 46 St\, New York\, NY\, United States
CATEGORIES:Fashion Week,New York Fashion Week
ATTACH;FMTTYPE=image/jpeg:https://images.newyorkstyleguide.com/cdn-cgi/imagedelivery/iQi6oghKZnTnyD5BhCza-A/events.newyorkstyleguide.com/2025/02/Efelh-Justmyne-Kema-Steevteez-Vervineus-Her-Sophisticated-Treasures-Azarie-x-24-JD-Stones.jpg/w=9999
GEO:40.758686;-73.985322
X-APPLE-STRUCTURED-LOCATION;VALUE=URI;X-ADDRESS=Sony Hall 235 W 46 St New York NY United States;X-APPLE-RADIUS=500;X-TITLE=235 W 46 St:geo:-73.985322,40.758686
END:VEVENT
END:VCALENDAR