BEGIN:VCALENDAR
VERSION:2.0
PRODID:-//Ticket Guide AI - ECPv6.15.14//NONSGML v1.0//EN
CALSCALE:GREGORIAN
METHOD:PUBLISH
X-ORIGINAL-URL:https://ticketguide.ai
X-WR-CALDESC:Events for Ticket Guide AI
REFRESH-INTERVAL;VALUE=DURATION:PT1H
X-Robots-Tag:noindex
X-PUBLISHED-TTL:PT1H
BEGIN:VTIMEZONE
TZID:America/New_York
BEGIN:DAYLIGHT
TZOFFSETFROM:-0500
TZOFFSETTO:-0400
TZNAME:EDT
DTSTART:20230312T070000
END:DAYLIGHT
BEGIN:STANDARD
TZOFFSETFROM:-0400
TZOFFSETTO:-0500
TZNAME:EST
DTSTART:20231105T060000
END:STANDARD
BEGIN:DAYLIGHT
TZOFFSETFROM:-0500
TZOFFSETTO:-0400
TZNAME:EDT
DTSTART:20240310T070000
END:DAYLIGHT
BEGIN:STANDARD
TZOFFSETFROM:-0400
TZOFFSETTO:-0500
TZNAME:EST
DTSTART:20241103T060000
END:STANDARD
BEGIN:DAYLIGHT
TZOFFSETFROM:-0500
TZOFFSETTO:-0400
TZNAME:EDT
DTSTART:20250309T070000
END:DAYLIGHT
BEGIN:STANDARD
TZOFFSETFROM:-0400
TZOFFSETTO:-0500
TZNAME:EST
DTSTART:20251102T060000
END:STANDARD
END:VTIMEZONE
BEGIN:VEVENT
DTSTART;TZID=America/New_York:20240907T170000
DTEND;TZID=America/New_York:20240907T180000
DTSTAMP:20260420T074222
CREATED:20241013T015727Z
LAST-MODIFIED:20241024T104922Z
UID:10001624-1725728400-1725732000@ticketguide.ai
SUMMARY:Josephines Closet Fashion Show
DESCRIPTION:Josephines Closet Fashion Show\nStep into the world of timeless elegance and modern sophistication at the Josephines Closet Fashion Show\, a highlight of New York Fashion Week. This collection brings together classic styles with contemporary twists\, offering a unique blend of chic\, wearable fashion for the modern woman. Each piece in Josephine’s Closet is thoughtfully designed to cater to diverse tastes\, from sleek silhouettes to bold patterns\, ensuring that every woman can find something that resonates with her personal style. \nThe collection emphasizes quality craftsmanship\, luxurious fabrics\, and attention to detail\, creating outfits that effortlessly transition from day to night. Whether you’re looking for a statement piece or a versatile wardrobe staple\, Josephine’s Closet has something for every occasion. This fashion show is more than just a runway event; it’s an experience that celebrates individuality\, confidence\, and the enduring appeal of well-curated fashion. \nDiscover more exciting events by clicking here.
URL:https://ticketguide.ai/event/josephines-closet-fashion-show/
LOCATION:West Edge NYC\, 88 10th Ave\, New York\, NY 10011\, United States\, New York\, NY\, 10011\, United States
CATEGORIES:Fashion Week,New York Fashion Week
ATTACH;FMTTYPE=image/jpeg:https://images.newyorkstyleguide.com/cdn-cgi/imagedelivery/iQi6oghKZnTnyD5BhCza-A/events.newyorkstyleguide.com/2024/10/JOSEPHINES-CLOSET-FASHION-SHOW-64xUqh.tmp_.jpg/w=9999
ORGANIZER;CN="Planet Fashion TV":MAILTO:info@planetfashiontv.com
GEO:40.7366995;-73.993124
X-APPLE-STRUCTURED-LOCATION;VALUE=URI;X-ADDRESS=West Edge NYC 88 10th Ave New York NY 10011 United States New York NY 10011 United States;X-APPLE-RADIUS=500;X-TITLE=88 10th Ave\, New York\, NY 10011\, United States:geo:-73.993124,40.7366995
END:VEVENT
END:VCALENDAR