BEGIN:VCALENDAR
VERSION:2.0
PRODID:-//Ticket Guide AI - ECPv6.15.14//NONSGML v1.0//EN
CALSCALE:GREGORIAN
METHOD:PUBLISH
X-WR-CALNAME:Ticket Guide AI
X-ORIGINAL-URL:https://ticketguide.ai
X-WR-CALDESC:Events for Ticket Guide AI
REFRESH-INTERVAL;VALUE=DURATION:PT1H
X-Robots-Tag:noindex
X-PUBLISHED-TTL:PT1H
BEGIN:VTIMEZONE
TZID:America/New_York
BEGIN:DAYLIGHT
TZOFFSETFROM:-0500
TZOFFSETTO:-0400
TZNAME:EDT
DTSTART:20230312T070000
END:DAYLIGHT
BEGIN:STANDARD
TZOFFSETFROM:-0400
TZOFFSETTO:-0500
TZNAME:EST
DTSTART:20231105T060000
END:STANDARD
BEGIN:DAYLIGHT
TZOFFSETFROM:-0500
TZOFFSETTO:-0400
TZNAME:EDT
DTSTART:20240310T070000
END:DAYLIGHT
BEGIN:STANDARD
TZOFFSETFROM:-0400
TZOFFSETTO:-0500
TZNAME:EST
DTSTART:20241103T060000
END:STANDARD
BEGIN:DAYLIGHT
TZOFFSETFROM:-0500
TZOFFSETTO:-0400
TZNAME:EDT
DTSTART:20250309T070000
END:DAYLIGHT
BEGIN:STANDARD
TZOFFSETFROM:-0400
TZOFFSETTO:-0500
TZNAME:EST
DTSTART:20251102T060000
END:STANDARD
END:VTIMEZONE
BEGIN:VEVENT
DTSTART;TZID=America/New_York:20240910T140000
DTEND;TZID=America/New_York:20240910T150000
DTSTAMP:20260421T141637
CREATED:20241013T021202Z
LAST-MODIFIED:20241024T104503Z
UID:10001665-1725976800-1725980400@ticketguide.ai
SUMMARY:PatBo
DESCRIPTION:PatBo\nPatBo\, founded by Brazilian designer Patricia Bonaldi\, has become a standout name in the fashion industry\, celebrated for its intricate craftsmanship and vibrant designs. At New York Fashion Week\, The brand’s latest collection merges bold\, tropical prints with luxurious embellishments\, reflecting Bonaldi’s Brazilian heritage. \nThe collection showcases an array of stunning garments\, including beaded halterneck dresses\, embroidered swimwear\, and flowing silhouettes adorned with feathers and fringes. Bonaldi’s commitment to empowering women is evident not only through her designs but also in her efforts to train and employ local artisans at her atelier in Brazil\, providing them with meaningful work opportunities. This season\, PatBo continues to captivate audiences with its unique blend of glamour and artistry\, making it a must-see at Fashion Week. \nDiscover more exciting events by clicking here.
URL:https://ticketguide.ai/event/patbo/
LOCATION:West Edge NYC\, 88 10th Ave\, New York\, NY 10011\, United States\, New York\, NY\, 10011\, United States
CATEGORIES:Fashion Week,New York Fashion Week
ATTACH;FMTTYPE=image/jpeg:https://images.newyorkstyleguide.com/cdn-cgi/imagedelivery/iQi6oghKZnTnyD5BhCza-A/events.newyorkstyleguide.com/2024/10/PatBo-VdNeZQ.tmp_.jpg/w=9999
GEO:40.7366995;-73.993124
X-APPLE-STRUCTURED-LOCATION;VALUE=URI;X-ADDRESS=West Edge NYC 88 10th Ave New York NY 10011 United States New York NY 10011 United States;X-APPLE-RADIUS=500;X-TITLE=88 10th Ave\, New York\, NY 10011\, United States:geo:-73.993124,40.7366995
END:VEVENT
END:VCALENDAR