BEGIN:VCALENDAR
VERSION:2.0
PRODID:-//Ticket Guide AI - ECPv6.15.14//NONSGML v1.0//EN
CALSCALE:GREGORIAN
METHOD:PUBLISH
X-ORIGINAL-URL:https://ticketguide.ai
X-WR-CALDESC:Events for Ticket Guide AI
REFRESH-INTERVAL;VALUE=DURATION:PT1H
X-Robots-Tag:noindex
X-PUBLISHED-TTL:PT1H
BEGIN:VTIMEZONE
TZID:America/New_York
BEGIN:DAYLIGHT
TZOFFSETFROM:-0500
TZOFFSETTO:-0400
TZNAME:EDT
DTSTART:20230312T070000
END:DAYLIGHT
BEGIN:STANDARD
TZOFFSETFROM:-0400
TZOFFSETTO:-0500
TZNAME:EST
DTSTART:20231105T060000
END:STANDARD
BEGIN:DAYLIGHT
TZOFFSETFROM:-0500
TZOFFSETTO:-0400
TZNAME:EDT
DTSTART:20240310T070000
END:DAYLIGHT
BEGIN:STANDARD
TZOFFSETFROM:-0400
TZOFFSETTO:-0500
TZNAME:EST
DTSTART:20241103T060000
END:STANDARD
BEGIN:DAYLIGHT
TZOFFSETFROM:-0500
TZOFFSETTO:-0400
TZNAME:EDT
DTSTART:20250309T070000
END:DAYLIGHT
BEGIN:STANDARD
TZOFFSETFROM:-0400
TZOFFSETTO:-0500
TZNAME:EST
DTSTART:20251102T060000
END:STANDARD
END:VTIMEZONE
BEGIN:VEVENT
DTSTART;TZID=America/New_York:20241205T180000
DTEND;TZID=America/New_York:20241205T220000
DTSTAMP:20260419T223849
CREATED:20241122T034509Z
LAST-MODIFIED:20241122T034509Z
UID:10001982-1733421600-1733436000@ticketguide.ai
SUMMARY:Project ZED - Art Basel Edition
DESCRIPTION:Project ZED – Art Basel Edition – Fashion & Art Show\nStep into a world where art and fashion collide at Project ZED – Art Basel Edition. Taking place on December 5th at the iconic DUA Hotel Miami\, this exclusive event\, presented by Miami Swim Week®\, offers a unique fusion of creativity\, innovation\, and sustainability. Celebrating its 4th annual showcase\, Project ZED promises a captivating evening of fashion shows\, art installations\, and exhibitions that honor some of the most talented artists and designers in the industry. \nThis year\, sustainability is at the forefront of the celebration\, highlighting the intersection of conscious design and creativity. Attendees will experience inspiring works from acclaimed designers and renowned artists\, including Franco Bracho\, Merz Marina\, Ksenia Craven\, and Fadil Berisha. These visionaries push the boundaries of art and fashion\, creating an immersive experience that defines the future of cultural innovation. \nEvent Highlights: \n\nRed Carpet Reception (6:00 PM – 7:00 PM): Start the evening with a glamorous reception featuring notable personalities from the art and fashion worlds.\nFashion & Art Shows (7:00 PM – 10:00 PM): The runway will showcase an exciting mix of fashion from top designers\, including Ema Savahl\, Elsa Dress Couture\, Playa Sol\, Love for Upcycling\, Mahogany Coast Swim\, and more.\nAfter Party (10:30 PM onwards): Continue the celebration with music\, drinks\, and exclusive conversations with designers\, artists\, and guests.\n\nFeatured Artists & Designers: \n\nFranco Bracho (artist) brings his expressive oil paintings to life\, depicting diverse ethnicities and cultures through captivating portraits.\nMerz Marina blends realism\, minimalism\, and custom leather couture to create striking pieces that bridge the gap between art and fashion.\nKsenia Craven\, a celebrated designer known for her sophisticated style\, merges her knowledge from luxury brands like Dior and Hermes to deliver high-end fashion.\nFadil Berisha is a renowned photographer who has worked with icons like Tyra Banks and Halle Berry\, capturing beauty and elegance through his lens.\n\nShow Schedule: \n\n7:00 PM – 8:30 PM:\n\nEma Savahl\nElsa Dress Couture\nMilus Rose\nPlaya Sol\n\n\n8:30 PM – 10:00 PM:\n\nLove for Upcycling\nMahogany Coast Swim\nHeritage India Fashions\nMegan Mae Miami Swimwear\n\n\n\nThis extraordinary evening promises to redefine the boundaries of fashion and art\, immersing guests in a one-of-a-kind experience. \nFor tickets and more details\, Click Here. \nJoin with Project ZED – Art Basel Edition and be part of the cultural revolution that celebrates creativity\, innovation\, and sustainability in Miami’s dynamic art scene! \nFor more details about upcoming events\, click here.
URL:https://ticketguide.ai/event/project-zed-art-basel-edition/
LOCATION:DUA Hotel\, South Miami Avenue 1300\, Miami\, FL\, 33130\, United States
CATEGORIES:Art Basel and Miami Art Week,Arts
ATTACH;FMTTYPE=image/jpeg:https://images.newyorkstyleguide.com/cdn-cgi/imagedelivery/iQi6oghKZnTnyD5BhCza-A/events.newyorkstyleguide.com/2024/11/Project-ZED-Art-Basel-Edition-Fashion-Art-Show.jpg/w=9999
GEO:25.7611691;-80.1936782
X-APPLE-STRUCTURED-LOCATION;VALUE=URI;X-ADDRESS=DUA Hotel South Miami Avenue 1300 Miami FL 33130 United States;X-APPLE-RADIUS=500;X-TITLE=South Miami Avenue 1300:geo:-80.1936782,25.7611691
END:VEVENT
END:VCALENDAR