BEGIN:VCALENDAR
VERSION:2.0
PRODID:-//Ticket Guide AI - ECPv6.15.14//NONSGML v1.0//EN
CALSCALE:GREGORIAN
METHOD:PUBLISH
X-WR-CALNAME:Ticket Guide AI
X-ORIGINAL-URL:https://ticketguide.ai
X-WR-CALDESC:Events for Ticket Guide AI
REFRESH-INTERVAL;VALUE=DURATION:PT1H
X-Robots-Tag:noindex
X-PUBLISHED-TTL:PT1H
BEGIN:VTIMEZONE
TZID:America/New_York
BEGIN:DAYLIGHT
TZOFFSETFROM:-0500
TZOFFSETTO:-0400
TZNAME:EDT
DTSTART:20230312T070000
END:DAYLIGHT
BEGIN:STANDARD
TZOFFSETFROM:-0400
TZOFFSETTO:-0500
TZNAME:EST
DTSTART:20231105T060000
END:STANDARD
BEGIN:DAYLIGHT
TZOFFSETFROM:-0500
TZOFFSETTO:-0400
TZNAME:EDT
DTSTART:20240310T070000
END:DAYLIGHT
BEGIN:STANDARD
TZOFFSETFROM:-0400
TZOFFSETTO:-0500
TZNAME:EST
DTSTART:20241103T060000
END:STANDARD
BEGIN:DAYLIGHT
TZOFFSETFROM:-0500
TZOFFSETTO:-0400
TZNAME:EDT
DTSTART:20250309T070000
END:DAYLIGHT
BEGIN:STANDARD
TZOFFSETFROM:-0400
TZOFFSETTO:-0500
TZNAME:EST
DTSTART:20251102T060000
END:STANDARD
END:VTIMEZONE
BEGIN:VEVENT
DTSTART;TZID=America/New_York:20241204T180000
DTEND;TZID=America/New_York:20241208T180000
DTSTAMP:20260422T064502
CREATED:20241107T044521Z
LAST-MODIFIED:20241107T044553Z
UID:10001929-1733335200-1733680800@ticketguide.ai
SUMMARY:Spectrum Miami 2024
DESCRIPTION:Spectrum Miami 2024\nDive into the world of contemporary art at Spectrum Miami 2024\, a dynamic showcase of independent artists\, studios\, and emerging galleries taking place December 4-8\, 2024. As Redwood Art Group’s flagship contemporary art fair\, Spectrum Miami returns to Mana Wynwood during Miami Art Week\, offering an inspiring mix of fresh talent and established creators. This year marks Spectrum’s 14th edition\, making it a must-see destination for art collectors\, enthusiasts\, and industry professionals alike. \nKicking off with an exclusive VIP Preview on Wednesday\, December 4 from 6 PM – 9 PM\, Spectrum Miami presents a carefully curated selection of artworks that reflects innovation and creativity across all mediums. Adjacent to Red Dot Miami\, Spectrum offers visitors the rare opportunity to explore two world-class art fairs in one location\, providing a rich cultural experience and a variety of artistic styles. \nEvent Highlights:\n\nDates: December 4-8\, 2024\nLocation: Mana Wynwood\, Miami\nHours:\n\nWednesday\, December 4 (VIP Preview): 6 PM – 9 PM\nThursday – Saturday: 12 PM – 8 PM\nSunday: 12 PM – 6 PM\n\n\nFeatures: Independent artists\, studios\, and emerging galleries\nAdjacent Event: Red Dot Miami\nPresented by: Redwood Art Group\n\nDiscover a vibrant array of contemporary works and connect with today’s most promising artists and galleries. \nFor more details about upcoming events\, click here.
URL:https://ticketguide.ai/event/spectrum-miami-2024/
LOCATION:Mana Wynwood\, 1199 NW 22nd St\, Miami\, FL\, United States
CATEGORIES:Art Basel and Miami Art Week,Arts
ATTACH;FMTTYPE=image/jpeg:https://images.newyorkstyleguide.com/cdn-cgi/imagedelivery/iQi6oghKZnTnyD5BhCza-A/events.newyorkstyleguide.com/2024/11/Spectrum-Miami-2024.jpg/w=9999
GEO:25.79777;-80.215252
X-APPLE-STRUCTURED-LOCATION;VALUE=URI;X-ADDRESS=Mana Wynwood 1199 NW 22nd St Miami FL United States;X-APPLE-RADIUS=500;X-TITLE=1199 NW 22nd St:geo:-80.215252,25.79777
END:VEVENT
END:VCALENDAR