BEGIN:VCALENDAR
VERSION:2.0
PRODID:-//Ticket Guide AI - ECPv6.15.14//NONSGML v1.0//EN
CALSCALE:GREGORIAN
METHOD:PUBLISH
X-ORIGINAL-URL:https://ticketguide.ai
X-WR-CALDESC:Events for Ticket Guide AI
REFRESH-INTERVAL;VALUE=DURATION:PT1H
X-Robots-Tag:noindex
X-PUBLISHED-TTL:PT1H
BEGIN:VTIMEZONE
TZID:America/New_York
BEGIN:DAYLIGHT
TZOFFSETFROM:-0500
TZOFFSETTO:-0400
TZNAME:EDT
DTSTART:20240310T070000
END:DAYLIGHT
BEGIN:STANDARD
TZOFFSETFROM:-0400
TZOFFSETTO:-0500
TZNAME:EST
DTSTART:20241103T060000
END:STANDARD
BEGIN:DAYLIGHT
TZOFFSETFROM:-0500
TZOFFSETTO:-0400
TZNAME:EDT
DTSTART:20250309T070000
END:DAYLIGHT
BEGIN:STANDARD
TZOFFSETFROM:-0400
TZOFFSETTO:-0500
TZNAME:EST
DTSTART:20251102T060000
END:STANDARD
BEGIN:DAYLIGHT
TZOFFSETFROM:-0500
TZOFFSETTO:-0400
TZNAME:EDT
DTSTART:20260308T070000
END:DAYLIGHT
BEGIN:STANDARD
TZOFFSETFROM:-0400
TZOFFSETTO:-0500
TZNAME:EST
DTSTART:20261101T060000
END:STANDARD
END:VTIMEZONE
BEGIN:VEVENT
DTSTART;TZID=America/New_York:20250206T210000
DTEND;TZID=America/New_York:20250206T230000
DTSTAMP:20260419T121742
CREATED:20250205T051020Z
LAST-MODIFIED:20250205T051020Z
UID:10002579-1738875600-1738882800@ticketguide.ai
SUMMARY:Ebn Jewelry\, Uppercase\, Lino Perros\, Table
DESCRIPTION:Ebn Jewelry\, Uppercase\, Lino Perros\, Table\nDuring New York Fashion Week Powered by Runway 7\, a diverse lineup of designers presented their latest collections\, each bringing a unique creative vision to the runway. \n\nEbn Jewelry – Showcased exquisite handcrafted jewelry pieces\, blending traditional craftsmanship with contemporary designs to create timeless accessories.\nUppercase – Introduced a collection of modern\, minimalist fashion\, emphasizing clean lines and sustainable materials for the conscious consumer.\nLino Perros – Featured a range of stylish handbags and accessories\, combining functionality with chic aesthetics to complement any ensemble.\nTable – Presented innovative ready-to-wear apparel\, focusing on versatility and comfort without compromising on style.\n\nEach designer contributed a distinct perspective\, collectively shaping a dynamic and trend-forward showcase at this season’s fashion week. \nTickets are available now and Secure your spot and be part of the fashion revolution! \nDiscover more exciting events by clicking here.
URL:https://ticketguide.ai/event/ebn-jewelry-uppercase-lino-perros-table/
LOCATION:Sony Hall\, 235 W 46 St\, New York\, NY\, United States
CATEGORIES:Fashion Week,New York Fashion Week
ATTACH;FMTTYPE=image/jpeg:https://images.newyorkstyleguide.com/cdn-cgi/imagedelivery/iQi6oghKZnTnyD5BhCza-A/events.newyorkstyleguide.com/2025/02/Ebn-Jewelry-Uppercase-Lino-Perros-Table.jpg/w=9999
GEO:40.758686;-73.985322
X-APPLE-STRUCTURED-LOCATION;VALUE=URI;X-ADDRESS=Sony Hall 235 W 46 St New York NY United States;X-APPLE-RADIUS=500;X-TITLE=235 W 46 St:geo:-73.985322,40.758686
END:VEVENT
END:VCALENDAR