BEGIN:VCALENDAR
VERSION:2.0
PRODID:-//Ticket Guide AI - ECPv6.15.14//NONSGML v1.0//EN
CALSCALE:GREGORIAN
METHOD:PUBLISH
X-ORIGINAL-URL:https://ticketguide.ai
X-WR-CALDESC:Events for Ticket Guide AI
REFRESH-INTERVAL;VALUE=DURATION:PT1H
X-Robots-Tag:noindex
X-PUBLISHED-TTL:PT1H
BEGIN:VTIMEZONE
TZID:America/New_York
BEGIN:DAYLIGHT
TZOFFSETFROM:-0500
TZOFFSETTO:-0400
TZNAME:EDT
DTSTART:20230312T070000
END:DAYLIGHT
BEGIN:STANDARD
TZOFFSETFROM:-0400
TZOFFSETTO:-0500
TZNAME:EST
DTSTART:20231105T060000
END:STANDARD
BEGIN:DAYLIGHT
TZOFFSETFROM:-0500
TZOFFSETTO:-0400
TZNAME:EDT
DTSTART:20240310T070000
END:DAYLIGHT
BEGIN:STANDARD
TZOFFSETFROM:-0400
TZOFFSETTO:-0500
TZNAME:EST
DTSTART:20241103T060000
END:STANDARD
BEGIN:DAYLIGHT
TZOFFSETFROM:-0500
TZOFFSETTO:-0400
TZNAME:EDT
DTSTART:20250309T070000
END:DAYLIGHT
BEGIN:STANDARD
TZOFFSETFROM:-0400
TZOFFSETTO:-0500
TZNAME:EST
DTSTART:20251102T060000
END:STANDARD
END:VTIMEZONE
BEGIN:VEVENT
DTSTART;TZID=America/New_York:20241202T120000
DTEND;TZID=America/New_York:20241208T190000
DTSTAMP:20260420T024448
CREATED:20241113T105550Z
LAST-MODIFIED:20241123T095820Z
UID:10001947-1733140800-1733684400@ticketguide.ai
SUMMARY:The Open Invitational
DESCRIPTION:The Open Invitational\n“The Open Invitational\,” debuting this year as part of Miami Art Week\, offers an innovative platform that highlights the talents of artists with mental and physical disabilities. Hosted at the vibrant Miami Design District’s Palm Court Event Space from December 2-8\, 2024\, the event is co-founded by David Fierman\, a visionary in the contemporary art world\, and Ross McCalla of The Outsider Institute. The Invitational centers on a groundbreaking mission to promote inclusivity and expand public appreciation for art often sidelined in mainstream discourse. The event will feature remarkable pieces from progressive art studios across the nation\, representing unique creative voices and groundbreaking perspectives. \nBacked by Miami Design District leader Craig Robins and additional support from the Bookleggers Library\, “The Open Invitational” seeks to dissolve conventional art hierarchies\, presenting collectors\, curators\, and institutions with vibrant\, unconventional works that reshape traditional definitions of fine art. In doing so\, it invites the art community to reimagine and celebrate the diverse possibilities of artistic expression through openness and accessibility. \n \nRenowned studios such as Artech Collective (New York)\, Creative Growth (Oakland)\, and LAND Gallery (New York) will participate\, showcasing pieces from artists who bring fresh\, often overlooked perspectives. Attendees can look forward to experiencing works by these and other acclaimed studios that emphasize therapeutic and progressive art practices\, transforming both the art world and societal perceptions of disability through creative exploration and powerful storytelling​. \nPARTICIPANTS \n2bnonprofit\, Miami\nArtech Collective\, New York \nArts of Life\, Chicago\nCenter for Creative Works\, Philadelphia\nCreative Growth\, Oakland\nCommunity Access Art Collective\, New York \nLAND Gallery\, New York \nThe Living Museum\, New York\nProgressive Art Studio Collective\, Detroit\nStudio Route 29\, Frenchtown\, NJ\nVinfen’s Gateway Arts\, Boston \nThis event is a unique opportunity for art enthusiasts\, collectors\, and advocates to engage with artwork that both inspires and challenges norms\, fostering a more inclusive art landscape that values all forms of expression. \nFor more details about upcoming events\, click here.
URL:https://ticketguide.ai/event/the-open-invitational/
LOCATION:Palm Court Event Space\, Northeast 39th Street 140\, Miami\, FL\, 33137\, United States
CATEGORIES:Art Basel and Miami Art Week,Arts
ATTACH;FMTTYPE=image/jpeg:https://images.newyorkstyleguide.com/cdn-cgi/imagedelivery/iQi6oghKZnTnyD5BhCza-A/events.newyorkstyleguide.com/2024/11/The-Open-Invitational.jpg/w=9999
GEO:25.8123273;-80.1917783
X-APPLE-STRUCTURED-LOCATION;VALUE=URI;X-ADDRESS=Palm Court Event Space Northeast 39th Street 140 Miami FL 33137 United States;X-APPLE-RADIUS=500;X-TITLE=Northeast 39th Street 140:geo:-80.1917783,25.8123273
END:VEVENT
END:VCALENDAR