BEGIN:VCALENDAR
VERSION:2.0
PRODID:-//Ticket Guide AI - ECPv6.15.14//NONSGML v1.0//EN
CALSCALE:GREGORIAN
METHOD:PUBLISH
X-ORIGINAL-URL:https://ticketguide.ai
X-WR-CALDESC:Events for Ticket Guide AI
REFRESH-INTERVAL;VALUE=DURATION:PT1H
X-Robots-Tag:noindex
X-PUBLISHED-TTL:PT1H
BEGIN:VTIMEZONE
TZID:America/New_York
BEGIN:DAYLIGHT
TZOFFSETFROM:-0500
TZOFFSETTO:-0400
TZNAME:EDT
DTSTART:20230312T070000
END:DAYLIGHT
BEGIN:STANDARD
TZOFFSETFROM:-0400
TZOFFSETTO:-0500
TZNAME:EST
DTSTART:20231105T060000
END:STANDARD
BEGIN:DAYLIGHT
TZOFFSETFROM:-0500
TZOFFSETTO:-0400
TZNAME:EDT
DTSTART:20240310T070000
END:DAYLIGHT
BEGIN:STANDARD
TZOFFSETFROM:-0400
TZOFFSETTO:-0500
TZNAME:EST
DTSTART:20241103T060000
END:STANDARD
BEGIN:DAYLIGHT
TZOFFSETFROM:-0500
TZOFFSETTO:-0400
TZNAME:EDT
DTSTART:20250309T070000
END:DAYLIGHT
BEGIN:STANDARD
TZOFFSETFROM:-0400
TZOFFSETTO:-0500
TZNAME:EST
DTSTART:20251102T060000
END:STANDARD
END:VTIMEZONE
BEGIN:VEVENT
DTSTART;TZID=America/New_York:20240910T100000
DTEND;TZID=America/New_York:20240910T110000
DTSTAMP:20260421T115511
CREATED:20241013T021150Z
LAST-MODIFIED:20241024T104514Z
UID:10001660-1725962400-1725966000@ticketguide.ai
SUMMARY:Toteme
DESCRIPTION:Toteme\nToteme\, founded in 2014 by Swedish creatives Elin Kling and Karl Lindman\, has quickly established itself as a staple in contemporary fashion. Known for its minimalist yet sophisticated aesthetic\, The brand focuses on creating timeless pieces that blend quality with purpose. The brand’s philosophy is rooted in the idea of a curated wardrobe\, offering versatile items that transcend seasons. Toteme’s designs are characterized by clean lines\, neutral tones\, and a commitment to sustainability\, appealing to women who value understated elegance and practicality in their everyday wear. Their collections reflect a harmonious blend of Scandinavian simplicity and modern luxury\, making the brand a standout at New York Fashion Week​. \nDiscover more exciting events by clicking here.
URL:https://ticketguide.ai/event/toteme/
LOCATION:West Edge NYC\, 88 10th Ave\, New York\, NY 10011\, United States\, New York\, NY\, 10011\, United States
CATEGORIES:Fashion Week,New York Fashion Week
ATTACH;FMTTYPE=image/jpeg:https://images.newyorkstyleguide.com/cdn-cgi/imagedelivery/iQi6oghKZnTnyD5BhCza-A/events.newyorkstyleguide.com/2024/10/Toteme-oqb5Ah.tmp_.jpg/w=9999
GEO:40.7366995;-73.993124
X-APPLE-STRUCTURED-LOCATION;VALUE=URI;X-ADDRESS=West Edge NYC 88 10th Ave New York NY 10011 United States New York NY 10011 United States;X-APPLE-RADIUS=500;X-TITLE=88 10th Ave\, New York\, NY 10011\, United States:geo:-73.993124,40.7366995
END:VEVENT
END:VCALENDAR