BEGIN:VCALENDAR
VERSION:2.0
PRODID:-//Ticket Guide AI - ECPv6.15.14//NONSGML v1.0//EN
CALSCALE:GREGORIAN
METHOD:PUBLISH
X-ORIGINAL-URL:https://ticketguide.ai
X-WR-CALDESC:Events for Ticket Guide AI
REFRESH-INTERVAL;VALUE=DURATION:PT1H
X-Robots-Tag:noindex
X-PUBLISHED-TTL:PT1H
BEGIN:VTIMEZONE
TZID:America/New_York
BEGIN:DAYLIGHT
TZOFFSETFROM:-0500
TZOFFSETTO:-0400
TZNAME:EDT
DTSTART:20230312T070000
END:DAYLIGHT
BEGIN:STANDARD
TZOFFSETFROM:-0400
TZOFFSETTO:-0500
TZNAME:EST
DTSTART:20231105T060000
END:STANDARD
BEGIN:DAYLIGHT
TZOFFSETFROM:-0500
TZOFFSETTO:-0400
TZNAME:EDT
DTSTART:20240310T070000
END:DAYLIGHT
BEGIN:STANDARD
TZOFFSETFROM:-0400
TZOFFSETTO:-0500
TZNAME:EST
DTSTART:20241103T060000
END:STANDARD
BEGIN:DAYLIGHT
TZOFFSETFROM:-0500
TZOFFSETTO:-0400
TZNAME:EDT
DTSTART:20250309T070000
END:DAYLIGHT
BEGIN:STANDARD
TZOFFSETFROM:-0400
TZOFFSETTO:-0500
TZNAME:EST
DTSTART:20251102T060000
END:STANDARD
END:VTIMEZONE
BEGIN:VEVENT
DTSTART;TZID=America/New_York:20240907T210000
DTEND;TZID=America/New_York:20240907T220000
DTSTAMP:20260420T005456
CREATED:20241013T021022Z
LAST-MODIFIED:20241024T104820Z
UID:10001630-1725742800-1725746400@ticketguide.ai
SUMMARY:CUSTO BARCELONA FASHION SHOW
DESCRIPTION:CUSTO BARCELONA FASHION SHOW\nGet ready to experience a vibrant explosion of color\, texture\, and innovation at the Custo Barcelona Fashion Show\, a must-see event at New York Fashion Week. Known for its bold\, avant-garde designs\, Custo Barcelona pushes the boundaries of fashion with eclectic patterns\, intricate details\, and unexpected fabric combinations. \nThis collection celebrates individuality and creative expression\, offering a unique blend of playful and sophisticated styles. With its roots in Barcelona’s artistic and cultural landscape\, the brand brings a distinct European flair to the runway\, making every piece a work of art. From eye-catching outerwear to statement dresses\, each design in the Custo Barcelona collection is crafted to stand out\, empowering wearers to express their personality through fashion. Don’t miss this dynamic showcase that perfectly embodies the spirit of contemporary fashion at New York Fashion Week. \nDiscover more exciting events by clicking here.
URL:https://ticketguide.ai/event/custo-barcelona-fashion-show/
LOCATION:West Edge NYC\, 88 10th Ave\, New York\, NY 10011\, United States\, New York\, NY\, 10011\, United States
CATEGORIES:Fashion Week,New York Fashion Week
ATTACH;FMTTYPE=image/jpeg:https://images.newyorkstyleguide.com/cdn-cgi/imagedelivery/iQi6oghKZnTnyD5BhCza-A/events.newyorkstyleguide.com/2024/10/CUSTO-BARCELONA-FASHION-SHOW-ZSD7iA.tmp_.jpg/w=9999
ORGANIZER;CN="Planet Fashion TV":MAILTO:info@planetfashiontv.com
GEO:40.7366995;-73.993124
X-APPLE-STRUCTURED-LOCATION;VALUE=URI;X-ADDRESS=West Edge NYC 88 10th Ave New York NY 10011 United States New York NY 10011 United States;X-APPLE-RADIUS=500;X-TITLE=88 10th Ave\, New York\, NY 10011\, United States:geo:-73.993124,40.7366995
END:VEVENT
BEGIN:VEVENT
DTSTART;TZID=America/New_York:20240907T170000
DTEND;TZID=America/New_York:20240907T180000
DTSTAMP:20260420T005456
CREATED:20241013T015727Z
LAST-MODIFIED:20241024T104922Z
UID:10001624-1725728400-1725732000@ticketguide.ai
SUMMARY:Josephines Closet Fashion Show
DESCRIPTION:Josephines Closet Fashion Show\nStep into the world of timeless elegance and modern sophistication at the Josephines Closet Fashion Show\, a highlight of New York Fashion Week. This collection brings together classic styles with contemporary twists\, offering a unique blend of chic\, wearable fashion for the modern woman. Each piece in Josephine’s Closet is thoughtfully designed to cater to diverse tastes\, from sleek silhouettes to bold patterns\, ensuring that every woman can find something that resonates with her personal style. \nThe collection emphasizes quality craftsmanship\, luxurious fabrics\, and attention to detail\, creating outfits that effortlessly transition from day to night. Whether you’re looking for a statement piece or a versatile wardrobe staple\, Josephine’s Closet has something for every occasion. This fashion show is more than just a runway event; it’s an experience that celebrates individuality\, confidence\, and the enduring appeal of well-curated fashion. \nDiscover more exciting events by clicking here.
URL:https://ticketguide.ai/event/josephines-closet-fashion-show/
LOCATION:West Edge NYC\, 88 10th Ave\, New York\, NY 10011\, United States\, New York\, NY\, 10011\, United States
CATEGORIES:Fashion Week,New York Fashion Week
ATTACH;FMTTYPE=image/jpeg:https://images.newyorkstyleguide.com/cdn-cgi/imagedelivery/iQi6oghKZnTnyD5BhCza-A/events.newyorkstyleguide.com/2024/10/JOSEPHINES-CLOSET-FASHION-SHOW-64xUqh.tmp_.jpg/w=9999
ORGANIZER;CN="Planet Fashion TV":MAILTO:info@planetfashiontv.com
GEO:40.7366995;-73.993124
X-APPLE-STRUCTURED-LOCATION;VALUE=URI;X-ADDRESS=West Edge NYC 88 10th Ave New York NY 10011 United States New York NY 10011 United States;X-APPLE-RADIUS=500;X-TITLE=88 10th Ave\, New York\, NY 10011\, United States:geo:-73.993124,40.7366995
END:VEVENT
BEGIN:VEVENT
DTSTART;TZID=America/New_York:20240907T150000
DTEND;TZID=America/New_York:20240907T160000
DTSTAMP:20260420T005456
CREATED:20241013T015711Z
LAST-MODIFIED:20241024T104937Z
UID:10001620-1725721200-1725724800@ticketguide.ai
SUMMARY:Dur Doux Fashion Show
DESCRIPTION:Dur Doux Fashion Show\nDur Doux brings a refreshing vision of confident femininity to New York Fashion Week\, rooted in the inspiration drawn from the sun-kissed shores of Florida. The collection captures the transformative beauty of nature\, blending coastal cool with artistic expression and timeless design. Known for vibrant prints\, unique textures\, and intricate details\, Dur Doux offers ready-to-wear pieces that are anything but ordinary. Each design is crafted to seamlessly mix and match\, creating a versatile wardrobe that transitions effortlessly from beach to city life. \nHand-drawn prints and captivating color palettes are signature elements that redefine modern resort femininity. This fashion show promises a captivating journey through art and nature\, showcasing bold designs that leave a lasting impression. Experience the evolution of resort wear as Dur Doux unveils a collection that celebrates the power of individuality and style at New York Fashion Week 2024. \nDiscover more exciting events by clicking here.
URL:https://ticketguide.ai/event/dur-doux-fashion-show/
LOCATION:The Walker Hotel Tribeca\, Walker Street\, New York\, NY\, 10013\, United States
CATEGORIES:Fashion Week,New York Fashion Week
ATTACH;FMTTYPE=image/webp:https://images.newyorkstyleguide.com/cdn-cgi/imagedelivery/iQi6oghKZnTnyD5BhCza-A/events.newyorkstyleguide.com/2024/10/DUR-DOUX-FASHION-SHOW-SMoEo0.tmp_.webp/w=9999
ORGANIZER;CN="Planet Fashion TV":MAILTO:info@planetfashiontv.com
GEO:40.7200254;-74.0055654
X-APPLE-STRUCTURED-LOCATION;VALUE=URI;X-ADDRESS=The Walker Hotel Tribeca Walker Street New York NY 10013 United States;X-APPLE-RADIUS=500;X-TITLE=Walker Street:geo:-74.0055654,40.7200254
END:VEVENT
BEGIN:VEVENT
DTSTART;TZID=America/New_York:20240907T120000
DTEND;TZID=America/New_York:20240907T130000
DTSTAMP:20260420T005456
CREATED:20241013T015647Z
LAST-MODIFIED:20241024T105000Z
UID:10001611-1725710400-1725714000@ticketguide.ai
SUMMARY:831 MinhLe Fashion Show
DESCRIPTION:831 MinhLe Fashion Show\nExperience the elegance and craftsmanship of Minh Le at the 831 MINHLE Fashion Show during New York Fashion Week. Minh Le\, a visionary designer with roots in Vietnam\, brings a unique blend of tradition and innovation to the runway. From teaching sewing to support her family to creating her own designs as a teenager\, Minh’s journey is one of passion and resilience. Since moving to America in 1994\, she has made a name for herself in the fashion world\, with her designs gracing the pages of Elle\, InStyle\, and Vogue. \nKnown for her personalized approach\, Minh creates custom-crafted clothing that highlights a woman’s lifestyle\, size\, and individuality. Each piece reflects her unmatched attention to detail and timeless sophistication. Voted one of Nylon’s top 10 designers to watch\, Minh Le’s collections at NYFW promise a captivating showcase of style\, merging classic beauty with contemporary flair. \nDiscover more exciting events by clicking here.
URL:https://ticketguide.ai/event/831-minhle-fashion-show/
LOCATION:West Edge NYC\, 88 10th Ave\, New York\, NY 10011\, United States\, New York\, NY\, 10011\, United States
CATEGORIES:Fashion Week,New York Fashion Week
ATTACH;FMTTYPE=image/jpeg:https://images.newyorkstyleguide.com/cdn-cgi/imagedelivery/iQi6oghKZnTnyD5BhCza-A/events.newyorkstyleguide.com/2024/10/831-MINHLE-FASHION-SHOW-n7Whqg.tmp_.jpg/w=9999
ORGANIZER;CN="Planet Fashion TV":MAILTO:info@planetfashiontv.com
GEO:40.7366995;-73.993124
X-APPLE-STRUCTURED-LOCATION;VALUE=URI;X-ADDRESS=West Edge NYC 88 10th Ave New York NY 10011 United States New York NY 10011 United States;X-APPLE-RADIUS=500;X-TITLE=88 10th Ave\, New York\, NY 10011\, United States:geo:-73.993124,40.7366995
END:VEVENT
BEGIN:VEVENT
DTSTART;TZID=America/New_York:20240906T183000
DTEND;TZID=America/New_York:20240906T193000
DTSTAMP:20260420T005456
CREATED:20241013T015619Z
LAST-MODIFIED:20241024T105149Z
UID:10001601-1725647400-1725651000@ticketguide.ai
SUMMARY:KIMIMI RESORT WEAR FASHION SHOW
DESCRIPTION:KIMIMI RESORT WEAR FASHION SHOW\nExperience the magic of transformation at the Kimimi Resort Wear Fashion Show\, where Elizabeth Arthur\, a New York-based entrepreneur and designer\, unveils her latest swimwear collection. Inspired by the beauty and metamorphosis of butterflies\, Arthur’s designs reflect a deep connection to her childhood memories of Trinidad and Tobago. The collection\, named ‘Kimimi’ after the Sioux word for butterfly\, embodies individuality and the celebration of personal beauty. Each piece in the collection is a vibrant tribute to the uniqueness of butterfly wings\, encouraging women to embrace their own transformations. \nThis exclusive showcase at New York Fashion Week promises a stunning visual journey through colors\, patterns\, and the elegance of resort wear\, all influenced by the symbolic journey of a butterfly. Witness a blend of culture\, nature\, and fashion in an event that captures the essence of luxury and individuality. \nDiscover more exciting events by clicking here.
URL:https://ticketguide.ai/event/kimimi-resort-wear-fashion-show/
LOCATION:West Edge NYC\, 88 10th Ave\, New York\, NY 10011\, United States\, New York\, NY\, 10011\, United States
CATEGORIES:Fashion Week,New York Fashion Week
ATTACH;FMTTYPE=image/jpeg:https://images.newyorkstyleguide.com/cdn-cgi/imagedelivery/iQi6oghKZnTnyD5BhCza-A/events.newyorkstyleguide.com/2024/10/KIMIMI-RESORT-WEAR-FASHION-SHOW-DkXUiW.tmp_.jpg/w=9999
ORGANIZER;CN="Planet Fashion TV":MAILTO:info@planetfashiontv.com
GEO:40.7366995;-73.993124
X-APPLE-STRUCTURED-LOCATION;VALUE=URI;X-ADDRESS=West Edge NYC 88 10th Ave New York NY 10011 United States New York NY 10011 United States;X-APPLE-RADIUS=500;X-TITLE=88 10th Ave\, New York\, NY 10011\, United States:geo:-73.993124,40.7366995
END:VEVENT
END:VCALENDAR