BEGIN:VCALENDAR
VERSION:2.0
PRODID:-//Ticket Guide AI - ECPv6.15.14//NONSGML v1.0//EN
CALSCALE:GREGORIAN
METHOD:PUBLISH
X-ORIGINAL-URL:https://ticketguide.ai
X-WR-CALDESC:Events for Ticket Guide AI
REFRESH-INTERVAL;VALUE=DURATION:PT1H
X-Robots-Tag:noindex
X-PUBLISHED-TTL:PT1H
BEGIN:VTIMEZONE
TZID:America/New_York
BEGIN:DAYLIGHT
TZOFFSETFROM:-0500
TZOFFSETTO:-0400
TZNAME:EDT
DTSTART:20230312T070000
END:DAYLIGHT
BEGIN:STANDARD
TZOFFSETFROM:-0400
TZOFFSETTO:-0500
TZNAME:EST
DTSTART:20231105T060000
END:STANDARD
BEGIN:DAYLIGHT
TZOFFSETFROM:-0500
TZOFFSETTO:-0400
TZNAME:EDT
DTSTART:20240310T070000
END:DAYLIGHT
BEGIN:STANDARD
TZOFFSETFROM:-0400
TZOFFSETTO:-0500
TZNAME:EST
DTSTART:20241103T060000
END:STANDARD
BEGIN:DAYLIGHT
TZOFFSETFROM:-0500
TZOFFSETTO:-0400
TZNAME:EDT
DTSTART:20250309T070000
END:DAYLIGHT
BEGIN:STANDARD
TZOFFSETFROM:-0400
TZOFFSETTO:-0500
TZNAME:EST
DTSTART:20251102T060000
END:STANDARD
END:VTIMEZONE
BEGIN:VEVENT
DTSTART;TZID=America/New_York:20241207T100000
DTEND;TZID=America/New_York:20241207T110000
DTSTAMP:20260419T090619
CREATED:20241127T120323Z
LAST-MODIFIED:20241127T120323Z
UID:10001995-1733565600-1733569200@ticketguide.ai
SUMMARY:Chavez
DESCRIPTION:Chavez\nChavez\, a rising star in the fashion industry\, will take the runway at Miami Art Week powered by Art Hearts Fashion. Known for creating striking and sophisticated designs\, Chavez blends modern style with timeless elegance\, offering a fresh perspective on contemporary fashion. Expect to see a diverse collection that celebrates individuality while embracing sustainable practices and unique tailoring. With a strong presence in the Miami fashion scene\, Chavez’s latest collection promises to captivate the audience with innovative designs and bold fashion statements. \nThe runway show will be an unforgettable event\, showcasing creative artistry and craftsmanship that pushes the boundaries of fashion. Chavez’s designs continue to impress both critics and fashion lovers\, making this show one of the most anticipated at this year’s Miami Art Week. \nFor more details about upcoming events\, click here.
URL:https://ticketguide.ai/event/chavez/
LOCATION:Gale Miami Hotel & Residences\, 601 NE 1st Ave\, Miami\, FL 33132\, USA\, Miami\, FL\, 33132\, United States
CATEGORIES:Art Basel and Miami Art Week,Arts,Miami Art Week Powered By Art Hearts Fashion
ATTACH;FMTTYPE=image/jpeg:https://images.newyorkstyleguide.com/cdn-cgi/imagedelivery/iQi6oghKZnTnyD5BhCza-A/events.newyorkstyleguide.com/2024/11/Chavez.jpg/w=9999
GEO:25.78025;-80.1914734
X-APPLE-STRUCTURED-LOCATION;VALUE=URI;X-ADDRESS=Gale Miami Hotel & Residences 601 NE 1st Ave Miami FL 33132 USA Miami FL 33132 United States;X-APPLE-RADIUS=500;X-TITLE=601 NE 1st Ave\, Miami\, FL 33132\, USA:geo:-80.1914734,25.78025
END:VEVENT
BEGIN:VEVENT
DTSTART;TZID=America/New_York:20241207T100000
DTEND;TZID=America/New_York:20241207T110000
DTSTAMP:20260419T090619
CREATED:20241127T115959Z
LAST-MODIFIED:20241127T115959Z
UID:10001997-1733565600-1733569200@ticketguide.ai
SUMMARY:Mister Triple X
DESCRIPTION:Mister Triple X\nA standout designer brand founded by Erik Rosete\, is set to captivate audiences at Miami Art Week\, powered by Art Hearts Fashion. Known for its edgy and avant-garde aesthetic\, the label masterfully combines streetwear with high-fashion elements. Erik Rosete\, a multi-talented designer\, producer\, and artist\, has established Mister Triple X as a symbol of innovation and bold expression in contemporary fashion. \nThis runway show promises to blend Miami’s vibrant culture with Mister Triple X‘s signature themes of futurism and rebellion. Expect dynamic designs featuring unconventional materials\, striking cuts\, and bold patterns that reflect the brand’s ethos of breaking boundaries. With its consistent presence in top fashion weeks\, including New York and Los Angeles\, Mister Triple X continues to redefine modern luxury and wearable art. \nHeld as part of the iconic Art Hearts Fashion series\, this event underscores the platform’s dedication to showcasing cutting-edge talent and inclusive artistry. Miami Art Week’s vibrant backdrop will amplify the energy of the show\, making it an unmissable experience for fashion enthusiasts and trendsetters alike. \nFor more details about upcoming events\, click here.
URL:https://ticketguide.ai/event/mister-triple-x-dec-7/
LOCATION:Gale Miami Hotel & Residences\, 601 NE 1st Ave\, Miami\, FL 33132\, USA\, Miami\, FL\, 33132\, United States
CATEGORIES:Art Basel and Miami Art Week,Arts,Miami Art Week Powered By Art Hearts Fashion
ATTACH;FMTTYPE=image/jpeg:https://images.newyorkstyleguide.com/cdn-cgi/imagedelivery/iQi6oghKZnTnyD5BhCza-A/events.newyorkstyleguide.com/2024/11/Mister-Triple-X.jpg/w=9999
GEO:25.78025;-80.1914734
X-APPLE-STRUCTURED-LOCATION;VALUE=URI;X-ADDRESS=Gale Miami Hotel & Residences 601 NE 1st Ave Miami FL 33132 USA Miami FL 33132 United States;X-APPLE-RADIUS=500;X-TITLE=601 NE 1st Ave\, Miami\, FL 33132\, USA:geo:-80.1914734,25.78025
END:VEVENT
BEGIN:VEVENT
DTSTART;TZID=America/New_York:20241207T090000
DTEND;TZID=America/New_York:20241207T100000
DTSTAMP:20260419T090619
CREATED:20241127T115616Z
LAST-MODIFIED:20241127T115616Z
UID:10001994-1733562000-1733565600@ticketguide.ai
SUMMARY:Julie Colquitt
DESCRIPTION:Julie Colquitt\nJulie Colquitt\, a celebrated Scottish designer\, is set to showcase her vibrant\, sustainable crochet designs at Miami Art Week Powered by Art Hearts Fashion. Known for her wearable art\, Colquitt’s collection celebrates the beauty of the female form through intricately handcrafted garments made from yarns and silks. Her designs exude a free-spirited\, contemporary aesthetic\, embracing sensuality while maintaining an artistic flair. \nBased in St. Andrews\, Scotland\, Colquitt’s rise in the fashion world is marked by her passion for combining sustainable materials with innovative crochet techniques. Her collections include everything from casual wear to more daring\, erotic art-inspired pieces. Colquitt’s work has garnered attention for its unique fusion of fashion and fine art\, with celebrity clients and a growing global fanbase. \nFor more details about upcoming events\, click here.
URL:https://ticketguide.ai/event/julie-colquitt/
LOCATION:Gale Miami Hotel & Residences\, 601 NE 1st Ave\, Miami\, FL 33132\, USA\, Miami\, FL\, 33132\, United States
CATEGORIES:Art Basel and Miami Art Week,Arts,Miami Art Week Powered By Art Hearts Fashion
ATTACH;FMTTYPE=image/jpeg:https://images.newyorkstyleguide.com/cdn-cgi/imagedelivery/iQi6oghKZnTnyD5BhCza-A/events.newyorkstyleguide.com/2024/11/Julie-Colquitt.jpg/w=9999
GEO:25.78025;-80.1914734
X-APPLE-STRUCTURED-LOCATION;VALUE=URI;X-ADDRESS=Gale Miami Hotel & Residences 601 NE 1st Ave Miami FL 33132 USA Miami FL 33132 United States;X-APPLE-RADIUS=500;X-TITLE=601 NE 1st Ave\, Miami\, FL 33132\, USA:geo:-80.1914734,25.78025
END:VEVENT
BEGIN:VEVENT
DTSTART;TZID=America/New_York:20241207T090000
DTEND;TZID=America/New_York:20241207T100000
DTSTAMP:20260419T090619
CREATED:20241127T115200Z
LAST-MODIFIED:20241127T115200Z
UID:10001993-1733562000-1733565600@ticketguide.ai
SUMMARY:Diyanni Surf
DESCRIPTION:Diyanni Surf\nDiyanni Surf is an emerging swimwear brand that made waves during Miami Art Week powered by Art Hearts Fashion\, showcasing a unique fusion of fashion and coastal lifestyle. Designed for confident and adventurous individuals\, the brand emphasizes bold colors\, cutting-edge cuts\, and eco-conscious fabrics. The show was a stunning celebration of contemporary beach fashion\, with a focus on sustainability and inclusivity. \nDiyanni Surf offers swimwear that is not only chic but also functional for those who embrace an active lifestyle\, blending luxury with practicality. Their collections often highlight artistic elements that reflect the designer’s affinity for nature\, making each piece a work of wearable art. Through their runway show\, Diyanni Surf captured the essence of modern beach culture\, offering designs that are both stylish and environmentally mindful. The show was a dynamic experience\, attracting fashion-forward attendees who are looking for swimwear that goes beyond the ordinary. \nFor more details about upcoming events\, click here.
URL:https://ticketguide.ai/event/diyanni-surf/
LOCATION:Gale Miami Hotel & Residences\, 601 NE 1st Ave\, Miami\, FL 33132\, USA\, Miami\, FL\, 33132\, United States
CATEGORIES:Art Basel and Miami Art Week,Arts,Miami Art Week Powered By Art Hearts Fashion
ATTACH;FMTTYPE=image/jpeg:https://images.newyorkstyleguide.com/cdn-cgi/imagedelivery/iQi6oghKZnTnyD5BhCza-A/events.newyorkstyleguide.com/2024/11/Diyanni-Surf.jpg/w=9999
GEO:25.78025;-80.1914734
X-APPLE-STRUCTURED-LOCATION;VALUE=URI;X-ADDRESS=Gale Miami Hotel & Residences 601 NE 1st Ave Miami FL 33132 USA Miami FL 33132 United States;X-APPLE-RADIUS=500;X-TITLE=601 NE 1st Ave\, Miami\, FL 33132\, USA:geo:-80.1914734,25.78025
END:VEVENT
BEGIN:VEVENT
DTSTART;TZID=America/New_York:20241206T090000
DTEND;TZID=America/New_York:20241206T100000
DTSTAMP:20260419T090619
CREATED:20241127T113728Z
LAST-MODIFIED:20241127T113728Z
UID:10001991-1733475600-1733479200@ticketguide.ai
SUMMARY:Mondo Guerra
DESCRIPTION:Mondo Guerra\nMondo Guerra\, a celebrated fashion designer\, is set to showcase his latest creations at Miami Art Week Powered by Art Hearts Fashion. Known for his bold\, innovative designs\, Mondo has established himself as a leading figure in the fashion industry. His work blends high fashion with distinctive storytelling\, often exploring themes of individuality\, culture\, and social issues. Guerra’s designs are celebrated for their vibrant colors and intricate patterns\, making them a standout at runway events. \nAt this event\, expect a stunning array of garments that highlight his expertise in mixing contemporary aesthetics with timeless elegance. Guests will be treated to an unforgettable experience of art and fashion as Mondo Guerra takes the stage to redefine runway shows. This is an opportunity to witness a master at work\, bringing both drama and beauty to the catwalk. The event will feature exclusive looks and design innovations that will leave attendees in awe​. \nFor more details about upcoming events\, click here.
URL:https://ticketguide.ai/event/mondo-guerra/
LOCATION:Gale Miami Hotel & Residences\, 601 NE 1st Ave\, Miami\, FL 33132\, USA\, Miami\, FL\, 33132\, United States
CATEGORIES:Art Basel and Miami Art Week,Arts,Miami Art Week Powered By Art Hearts Fashion
ATTACH;FMTTYPE=image/jpeg:https://images.newyorkstyleguide.com/cdn-cgi/imagedelivery/iQi6oghKZnTnyD5BhCza-A/events.newyorkstyleguide.com/2024/11/Mondo-Guerra.jpg/w=9999
GEO:25.78025;-80.1914734
X-APPLE-STRUCTURED-LOCATION;VALUE=URI;X-ADDRESS=Gale Miami Hotel & Residences 601 NE 1st Ave Miami FL 33132 USA Miami FL 33132 United States;X-APPLE-RADIUS=500;X-TITLE=601 NE 1st Ave\, Miami\, FL 33132\, USA:geo:-80.1914734,25.78025
END:VEVENT
BEGIN:VEVENT
DTSTART;TZID=America/New_York:20241206T090000
DTEND;TZID=America/New_York:20241206T100000
DTSTAMP:20260419T090619
CREATED:20241127T105445Z
LAST-MODIFIED:20241127T105445Z
UID:10001990-1733475600-1733479200@ticketguide.ai
SUMMARY:Freshy
DESCRIPTION:Freshy\nExperience the innovative artistry of Freshy during Miami Art Week\, powered by Art Hearts Fashion. Known for blending contemporary design with cultural influences\, Freshy’s runway show promises a dynamic celebration of fashion. The event highlights bold creativity\, showcasing statement pieces that push the boundaries of conventional design while embracing sustainability and modern trends. \nHosted by Art Hearts Fashion\, renowned for spotlighting cutting-edge designers\, this show will feature mesmerizing collections at one of Miami’s iconic venues. Guests can expect a fusion of vibrant aesthetics\, intricate details\, and fashion-forward styles that resonate with the vibrant spirit of Miami. \nFor more details about upcoming events\, click here.
URL:https://ticketguide.ai/event/freshy/
LOCATION:Gale Miami Hotel & Residences\, 601 NE 1st Ave\, Miami\, FL 33132\, USA\, Miami\, FL\, 33132\, United States
CATEGORIES:Art Basel and Miami Art Week,Arts,Miami Art Week Powered By Art Hearts Fashion
ATTACH;FMTTYPE=image/jpeg:https://images.newyorkstyleguide.com/cdn-cgi/imagedelivery/iQi6oghKZnTnyD5BhCza-A/events.newyorkstyleguide.com/2024/11/Freshy.jpg/w=9999
GEO:25.78025;-80.1914734
X-APPLE-STRUCTURED-LOCATION;VALUE=URI;X-ADDRESS=Gale Miami Hotel & Residences 601 NE 1st Ave Miami FL 33132 USA Miami FL 33132 United States;X-APPLE-RADIUS=500;X-TITLE=601 NE 1st Ave\, Miami\, FL 33132\, USA:geo:-80.1914734,25.78025
END:VEVENT
BEGIN:VEVENT
DTSTART;TZID=America/New_York:20241206T090000
DTEND;TZID=America/New_York:20241206T100000
DTSTAMP:20260419T090619
CREATED:20241127T105112Z
LAST-MODIFIED:20241127T105145Z
UID:10001989-1733475600-1733479200@ticketguide.ai
SUMMARY:Chavelis Playhouse
DESCRIPTION:Chavelis Playhouse\nStep into the world of Chavelis Playhouse\, where fashion transforms into an artful spectacle during Miami Art Week\, powered by Art Hearts Fashion. Renowned for its avant-garde designs and theatrical flair\, the Chavelis brand captivates audiences with creations that push boundaries and ignite imagination. Each piece tells a story\, blending intricate detailing with bold\, dramatic aesthetics to redefine wearable art. \nAs one of the most anticipated shows of the week\, Chavelis Playhouse promises an unforgettable journey through creativity and couture. Guests can expect a runway filled with vibrant expressions of culture\, innovation\, and unrestrained artistry. Perfectly aligned with the cutting-edge spirit of Art Hearts Fashion\, this showcase is more than a presentation—it’s a celebration of individuality and artistic brilliance. \nDon’t miss the chance to witness this groundbreaking event\, where fashion meets fantasy in the heart of Miami. Reserve your spot now for an evening of unmatched elegance and innovation. \nFor more details about upcoming events\, click here.
URL:https://ticketguide.ai/event/chavelis-playhouse/
LOCATION:Gale Miami Hotel & Residences\, 601 NE 1st Ave\, Miami\, FL 33132\, USA\, Miami\, FL\, 33132\, United States
CATEGORIES:Art Basel and Miami Art Week,Arts,Miami Art Week Powered By Art Hearts Fashion
ATTACH;FMTTYPE=image/jpeg:https://images.newyorkstyleguide.com/cdn-cgi/imagedelivery/iQi6oghKZnTnyD5BhCza-A/events.newyorkstyleguide.com/2024/11/Chavelis-Playhouse.jpg/w=9999
GEO:25.78025;-80.1914734
X-APPLE-STRUCTURED-LOCATION;VALUE=URI;X-ADDRESS=Gale Miami Hotel & Residences 601 NE 1st Ave Miami FL 33132 USA Miami FL 33132 United States;X-APPLE-RADIUS=500;X-TITLE=601 NE 1st Ave\, Miami\, FL 33132\, USA:geo:-80.1914734,25.78025
END:VEVENT
BEGIN:VEVENT
DTSTART;TZID=America/New_York:20241206T090000
DTEND;TZID=America/New_York:20241206T100000
DTSTAMP:20260419T090619
CREATED:20241127T103818Z
LAST-MODIFIED:20241127T103818Z
UID:10001988-1733475600-1733479200@ticketguide.ai
SUMMARY:Bad Sisters
DESCRIPTION:Bad Sisters\nPrepare for a bold and transformative experience at Bad Sisters\, an electrifying runway event during Miami Art Week. Presented by Art Hearts Fashion\, this showcase combines edgy aesthetics with captivating storytelling. Known for pushing creative boundaries\, Bad Sisters highlights designs that celebrate individuality and resilience. The show is set to mesmerize attendees with its fusion of high fashion and raw artistic expression. \nArt Hearts Fashion\, a leader in high-impact fashion events\, curates a lineup featuring global and local talent at Miami Art Week. Renowned for fostering inclusivity and innovation\, the platform ensures that each show delivers unforgettable moments. From avant-garde designs to diverse representations on the runway\, Art Hearts Fashion continues to redefine the fashion landscape. \nFor more details about upcoming events\, click here.
URL:https://ticketguide.ai/event/bad-sisters/
LOCATION:Gale Miami Hotel & Residences\, 601 NE 1st Ave\, Miami\, FL 33132\, USA\, Miami\, FL\, 33132\, United States
CATEGORIES:Art Basel and Miami Art Week,Arts,Miami Art Week Powered By Art Hearts Fashion
ATTACH;FMTTYPE=image/jpeg:https://images.newyorkstyleguide.com/cdn-cgi/imagedelivery/iQi6oghKZnTnyD5BhCza-A/events.newyorkstyleguide.com/2024/11/Bad-Sisters.jpg/w=9999
GEO:25.78025;-80.1914734
X-APPLE-STRUCTURED-LOCATION;VALUE=URI;X-ADDRESS=Gale Miami Hotel & Residences 601 NE 1st Ave Miami FL 33132 USA Miami FL 33132 United States;X-APPLE-RADIUS=500;X-TITLE=601 NE 1st Ave\, Miami\, FL 33132\, USA:geo:-80.1914734,25.78025
END:VEVENT
END:VCALENDAR