BEGIN:VCALENDAR
VERSION:2.0
PRODID:-//Ticket Guide AI - ECPv6.15.14//NONSGML v1.0//EN
CALSCALE:GREGORIAN
METHOD:PUBLISH
X-WR-CALNAME:Ticket Guide AI
X-ORIGINAL-URL:https://ticketguide.ai
X-WR-CALDESC:Events for Ticket Guide AI
REFRESH-INTERVAL;VALUE=DURATION:PT1H
X-Robots-Tag:noindex
X-PUBLISHED-TTL:PT1H
BEGIN:VTIMEZONE
TZID:America/New_York
BEGIN:DAYLIGHT
TZOFFSETFROM:-0500
TZOFFSETTO:-0400
TZNAME:EDT
DTSTART:20230312T070000
END:DAYLIGHT
BEGIN:STANDARD
TZOFFSETFROM:-0400
TZOFFSETTO:-0500
TZNAME:EST
DTSTART:20231105T060000
END:STANDARD
BEGIN:DAYLIGHT
TZOFFSETFROM:-0500
TZOFFSETTO:-0400
TZNAME:EDT
DTSTART:20240310T070000
END:DAYLIGHT
BEGIN:STANDARD
TZOFFSETFROM:-0400
TZOFFSETTO:-0500
TZNAME:EST
DTSTART:20241103T060000
END:STANDARD
BEGIN:DAYLIGHT
TZOFFSETFROM:-0500
TZOFFSETTO:-0400
TZNAME:EDT
DTSTART:20250309T070000
END:DAYLIGHT
BEGIN:STANDARD
TZOFFSETFROM:-0400
TZOFFSETTO:-0500
TZNAME:EST
DTSTART:20251102T060000
END:STANDARD
END:VTIMEZONE
BEGIN:VEVENT
DTSTART;TZID=America/New_York:20241204T080000
DTEND;TZID=America/New_York:20241208T170000
DTSTAMP:20260420T022244
CREATED:20241106T124242Z
LAST-MODIFIED:20241106T124242Z
UID:10001924-1733299200-1733677200@ticketguide.ai
SUMMARY:Satellite Art Show 2024
DESCRIPTION:Satellite Art Show 2024\nBe a part of the creative force that is the 9th Satellite Art Show on Lincoln Road during Miami Art Week\, from December 4-8\, 2024. This year’s show continues Satellite’s reputation for showcasing cutting-edge\, immersive art experiences through diverse projects from a wide range of participants\, including emerging art galleries\, collectives\, tech innovators\, and musical performers. \nSatellite Art Show was initiated in 2015 to provide space for artist-run initiatives\, young dealers\, and nonprofits by showing their works in an energetic and non-traditional setting. It has further expanded to include international gallery installations and socially engaged non-profits. Focused on the most boundary-pushing artistry\, the event will bring out creativity as an act of activism\, curiosity\, and new views outside of the traditional constraints of the art fair model. \nKey Details:\n\nEvent Dates: December 4-8\, 2024\nLocation: Lincoln Road\, Miami Beach\, FL\nHighlights: Immersive installations\, visual art\, experimental projects\, and live performances by emerging artists\nAudience: Art enthusiasts\, tech and creative industry professionals\, collectors\, and the general public looking for a unique\, thought-provoking art experience\n\nFor more details about upcoming events\, click here.
URL:https://ticketguide.ai/event/satellite-art-show-2024/
LOCATION:Lincoln Road\, Lincoln Road\, Miami Beach\, FL\, 33139\, United States
CATEGORIES:Art Basel and Miami Art Week,Arts
ATTACH;FMTTYPE=image/jpeg:https://images.newyorkstyleguide.com/cdn-cgi/imagedelivery/iQi6oghKZnTnyD5BhCza-A/events.newyorkstyleguide.com/2024/11/Satellite-Art-Show.jpg/w=9999
GEO:25.7907369;-80.1318305
X-APPLE-STRUCTURED-LOCATION;VALUE=URI;X-ADDRESS=Lincoln Road Lincoln Road Miami Beach FL 33139 United States;X-APPLE-RADIUS=500;X-TITLE=Lincoln Road:geo:-80.1318305,25.7907369
END:VEVENT
END:VCALENDAR