BEGIN:VCALENDAR
VERSION:2.0
PRODID:-//Ticket Guide AI - ECPv6.15.14//NONSGML v1.0//EN
CALSCALE:GREGORIAN
METHOD:PUBLISH
X-WR-CALNAME:Ticket Guide AI
X-ORIGINAL-URL:https://ticketguide.ai
X-WR-CALDESC:Events for Ticket Guide AI
REFRESH-INTERVAL;VALUE=DURATION:PT1H
X-Robots-Tag:noindex
X-PUBLISHED-TTL:PT1H
BEGIN:VTIMEZONE
TZID:America/New_York
BEGIN:DAYLIGHT
TZOFFSETFROM:-0500
TZOFFSETTO:-0400
TZNAME:EDT
DTSTART:20240310T070000
END:DAYLIGHT
BEGIN:STANDARD
TZOFFSETFROM:-0400
TZOFFSETTO:-0500
TZNAME:EST
DTSTART:20241103T060000
END:STANDARD
BEGIN:DAYLIGHT
TZOFFSETFROM:-0500
TZOFFSETTO:-0400
TZNAME:EDT
DTSTART:20250309T070000
END:DAYLIGHT
BEGIN:STANDARD
TZOFFSETFROM:-0400
TZOFFSETTO:-0500
TZNAME:EST
DTSTART:20251102T060000
END:STANDARD
BEGIN:DAYLIGHT
TZOFFSETFROM:-0500
TZOFFSETTO:-0400
TZNAME:EDT
DTSTART:20260308T070000
END:DAYLIGHT
BEGIN:STANDARD
TZOFFSETFROM:-0400
TZOFFSETTO:-0500
TZNAME:EST
DTSTART:20261101T060000
END:STANDARD
END:VTIMEZONE
BEGIN:VEVENT
DTSTART;TZID=America/New_York:20250118T140000
DTEND;TZID=America/New_York:20250118T180000
DTSTAMP:20260419T130951
CREATED:20250101T051012Z
LAST-MODIFIED:20250101T051012Z
UID:10002145-1737208800-1737223200@ticketguide.ai
SUMMARY:PAL ZILERI
DESCRIPTION:PAL ZILERI\n\n\n\nItalian luxury menswear brand that embodies sophisticated tailoring and timeless elegance. Founded in Quinto Vicentino\, Italy\, and now headquartered in Milan\, the brand is renowned for its meticulous craftsmanship and high-quality fabrics. \nOwned by the sovereign wealth fund of the Qatari royal family and part of Forall Confezioni SpA\, Pal Zileri has established itself as a symbol of refined Italian style. The brand’s collections are designed for the modern man\, combining traditional tailoring with contemporary influences\, offering a diverse range of suits\, outerwear\, and accessories that reflect the brand’s commitment to luxury and precision. \nWith a rich heritage rooted in Italian craftsmanship and an eye on global appeal\, the brand continues to be a key player in the world of high-end menswear\, delivering exceptional quality and understated luxury to its discerning clientele. \n\n\n\nFor more details about upcoming events\, click here.
URL:https://ticketguide.ai/event/pal-zileri-mfw-2025/
LOCATION:VIA VERRI\, 8\, VIA VERRI\, 8\, Milan\, Italy
CATEGORIES:Fashion Week,Milan Fashion Week
ATTACH;FMTTYPE=image/jpeg:https://images.newyorkstyleguide.com/cdn-cgi/imagedelivery/iQi6oghKZnTnyD5BhCza-A/events.newyorkstyleguide.com/2025/01/PAL-ZILERI.jpg/w=9999
GEO:45.4677073;9.1950239
X-APPLE-STRUCTURED-LOCATION;VALUE=URI;X-ADDRESS=VIA VERRI 8 VIA VERRI 8 Milan Italy;X-APPLE-RADIUS=500;X-TITLE=VIA VERRI\, 8:geo:9.1950239,45.4677073
END:VEVENT
END:VCALENDAR